BEGIN:VCALENDAR
VERSION:2.0
PRODID:-//Octubre Centre de Cultura Contemporània - ECPv5.1.6//NONSGML v1.0//EN
CALSCALE:GREGORIAN
METHOD:PUBLISH
X-WR-CALNAME:Octubre Centre de Cultura Contemporània
X-ORIGINAL-URL:https://octubre.cat
X-WR-CALDESC:Events for Octubre Centre de Cultura Contemporània
BEGIN:VTIMEZONE
TZID:Europe/Andorra
BEGIN:DAYLIGHT
TZOFFSETFROM:+0100
TZOFFSETTO:+0200
TZNAME:CEST
DTSTART:20220327T010000
END:DAYLIGHT
BEGIN:STANDARD
TZOFFSETFROM:+0200
TZOFFSETTO:+0100
TZNAME:CET
DTSTART:20221030T010000
END:STANDARD
END:VTIMEZONE
BEGIN:VEVENT
DTSTART;TZID=Europe/Andorra:20221004T193000
DTEND;TZID=Europe/Andorra:20221004T193000
DTSTAMP:20260421T180800
CREATED:20220919T090416Z
LAST-MODIFIED:20250629T103400Z
UID:18745-1664911800-1664911800@octubre.cat
SUMMARY:Mostra Viva 2022. Escriptors: «Joan Fuster»
DESCRIPTION:Mostra Viva del Mediterrani 2022\nEncontre d’Escriptors \nJoan Fuster\, unes notes sobre Europa \nAmb motiu del centenari del naixement de l’escriptor de Sueca\, conversarem sobre la influència dels pensadors europeus i mediterranis en la seua obra. \nAmb la participació de Manuel Baixauli\, Josep Piera i Tona Català. Modera Manolo Gil. \n  \n \n—\nOrganitzat per Mostra Viva del Mediterrani amb la col·laboració de l’Octubre CCC.
URL:https://octubre.cat/activitat/mostra-viva-2022-escriptors-joan-fuster/
LOCATION:Hall
CATEGORIES:Any Joan Fuster 2022,Literatura,Mostra Viva 2022
ATTACH;FMTTYPE=image/jpeg:https://octubre.cat/www/wp-content/uploads/2022/06/cartell-mostra-viva-2022-CAP.jpg
END:VEVENT
END:VCALENDAR