BEGIN:VCALENDAR
VERSION:2.0
PRODID:-//Octubre Centre de Cultura Contemporània - ECPv5.1.6//NONSGML v1.0//EN
CALSCALE:GREGORIAN
METHOD:PUBLISH
X-WR-CALNAME:Octubre Centre de Cultura Contemporània
X-ORIGINAL-URL:https://octubre.cat
X-WR-CALDESC:Events for Octubre Centre de Cultura Contemporània
BEGIN:VTIMEZONE
TZID:Europe/Andorra
BEGIN:DAYLIGHT
TZOFFSETFROM:+0100
TZOFFSETTO:+0200
TZNAME:CEST
DTSTART:20210328T010000
END:DAYLIGHT
BEGIN:STANDARD
TZOFFSETFROM:+0200
TZOFFSETTO:+0100
TZNAME:CET
DTSTART:20211031T010000
END:STANDARD
END:VTIMEZONE
BEGIN:VEVENT
DTSTART;TZID=Europe/Andorra:20210927T000000
DTEND;TZID=Europe/Andorra:20211106T000000
DTSTAMP:20260420T121153
CREATED:20210916T110305Z
LAST-MODIFIED:20211013T065619Z
UID:16925-1632700800-1636156800@octubre.cat
SUMMARY:Mostra Viva 2021: Residències creatives / Resistències quotidianes
DESCRIPTION:Mostra Viva del Mediterrani 2021\nArts Visuals \nInauguració: dilluns 27 de setembre a les 19.00h \nAquesta exposició pretén donar visibilitat a la creació contemporània al Magreb\, a través d’una selecció d’obres creades en el marc del programa de residències que organitza l’associació Jiser des de fa més de deu anys entre les ciutats de Barcelona\, Tunísia i Alger\, promovent l’ús de l’art com a eina de transformació social en l’espai mediterrani. \nEls sis artistes seleccionats per a participar en aquesta exposició són Mohamed Ben Soltane\, Mounir Gouri\, Anna López Luna\, Bárbara Sánchez Barroso\, Rania Werda i Souad Douibi\, procedents dels contextos tunisià\, algerià i espanyol. Les seues obres reflecteixen resistències quotidianes\, individuals i col·lectives que confronten situacions complexes i en la seua majoria invisibles. \n \n—\nEn la capçalera: obra de Bárbara Sánchez Barroso.\nUna exposició comissariada per Xavier de Luca i organitzada amb la col·laboració de Jiser Reflexions Mediterrànies (Barcelona).\nResponsable del projecte: Rym Ayadat (Agència CREI.Corp).\nOrganitzat per Mostra Viva del Mediterrani amb la col·laboració de l’Octubre CCC.
URL:https://octubre.cat/activitat/mostra-viva-2021-residencies-creatives-resistencies-quotidianes/
LOCATION:Sala d’exposicions
CATEGORIES:Exposicions,Mostra Viva 2021
ATTACH;FMTTYPE=image/jpeg:https://octubre.cat/www/wp-content/uploads/2021/09/barbara4.jpg
END:VEVENT
END:VCALENDAR