BEGIN:VCALENDAR
VERSION:2.0
PRODID:-//Octubre Centre de Cultura Contemporània - ECPv5.1.6//NONSGML v1.0//EN
CALSCALE:GREGORIAN
METHOD:PUBLISH
X-WR-CALNAME:Octubre Centre de Cultura Contemporània
X-ORIGINAL-URL:https://octubre.cat
X-WR-CALDESC:Events for Octubre Centre de Cultura Contemporània
BEGIN:VTIMEZONE
TZID:Europe/Andorra
BEGIN:DAYLIGHT
TZOFFSETFROM:+0100
TZOFFSETTO:+0200
TZNAME:CEST
DTSTART:20140330T010000
END:DAYLIGHT
BEGIN:STANDARD
TZOFFSETFROM:+0200
TZOFFSETTO:+0100
TZNAME:CET
DTSTART:20141026T010000
END:STANDARD
END:VTIMEZONE
BEGIN:VEVENT
DTSTART;TZID=Europe/Andorra:20141204T000000
DTEND;TZID=Europe/Andorra:20141208T000000
DTSTAMP:20260421T054448
CREATED:20200729T170815Z
LAST-MODIFIED:20200730T041306Z
UID:10002-1417651200-1417996800@octubre.cat
SUMMARY:Mostra Viva 2014
DESCRIPTION:Del 4 al 8 de desembre. Segona edició de la mostra de cinema que pretén recuperar l’esperit de la desapareguda Mostra de Cinema del Mediterrani.  \n  \n  \n\n Cinema del Mediterrani  L’edició 2014 de Mostra Viva comença el divendres 4 de desembre i omplirà la ciutat de cinema\, música\, escena\, art i poesia fins el dilluns 8. És el resultat de l’esforç i el treball voluntari d’una associació ciutadana (Mostra Viva) que s’ha proposat recuperar València com a lloc de trobada de la cultura i els pobles de la Mediterrània.  Una vegada més es realitzarà sense el suport ni del govern municipal\, ni del provincial ni de l’autonòmic\, però sí gràcies a la col·laboració d’organitzacions internacionals (Fundation Charles Léopold Mayer\, Assemblea de Ciutadans i Ciutadanes de la Mediterrània\, Institut Europeu de la Mediterrània\, Casa Àrab\, Premis Lux…)\, d’entitats valencianes com la Universitat de València\, l’Octubre Centre de Cultura Contemporània\, SGAE\, Universitat Politècnica de València i d’empreses patrocinadores com cerveses Túria o Pollos Planes.  Eixos de la programació: –Mostra Viva\, Cinema del Mediterrani –Trobada Viva\, Música del Mediterrani –Mostra Viva\, Escena del Mediterrani –Mostra Viva\, Art del Mediterrani –Ciutadania Viva del Mediterrani  Espais principals: –La Nau Centre de Cultura de la Universitat de València –Octubre Centre de Cultura Contemporània –Jardí Botànic de la Universitat de València –SGAE València –Teatre Flumen  Entitats col·laboradores: –Amb la col·laboració de l’Acadèmia del Cinema Català –Amb el suport de la Diputació de Barcelona  Activitats que tenen lloc a l’Octubre CCC  —Exposició “mar-mar” Inauguració: dimarts 2 de desembre  –Projeccions de “Mostra Viva\, Cinema del Mediterrani”  Divendres 5 de desembre 16.45h. La memoria rebelde\, de Julio Diamante 19.30h. El quinto jinete\, de Rosana Pastor i Enrique Viciano  Dissabte 6 de desembre 16.45h. Réquiem nuclear\, de Sonia Llera 19.30h. Aragón rodado\, de Vicky Calavia  Diumenge 7 de desembre 16.45h. Memorias de guitarra\, de Vicent Tamarit i Rafa Higón 19.30h. La plaga\, de Neus Ballús  Dilluns 8 de desembre 16.45h. Dora Maar\, a pesar de Picasso\, d’Alejandro Lassala 19.30h. Crustáceos\, de Vicente Pérez Herrero
URL:https://octubre.cat/activitat/mostra-viva-2014/
LOCATION:Sala d’actes
CATEGORIES:Cinema
ATTACH;FMTTYPE=image/jpeg:https://octubre.cat/www/wp-content/uploads/2020/07/activitat2199.jpg
END:VEVENT
END:VCALENDAR