BEGIN:VCALENDAR
VERSION:2.0
PRODID:-//Octubre Centre de Cultura Contemporània - ECPv5.1.6//NONSGML v1.0//EN
CALSCALE:GREGORIAN
METHOD:PUBLISH
X-WR-CALNAME:Octubre Centre de Cultura Contemporània
X-ORIGINAL-URL:https://octubre.cat
X-WR-CALDESC:Events for Octubre Centre de Cultura Contemporània
BEGIN:VTIMEZONE
TZID:Europe/Andorra
BEGIN:DAYLIGHT
TZOFFSETFROM:+0100
TZOFFSETTO:+0200
TZNAME:CEST
DTSTART:20190331T010000
END:DAYLIGHT
BEGIN:STANDARD
TZOFFSETFROM:+0200
TZOFFSETTO:+0100
TZNAME:CET
DTSTART:20191027T010000
END:STANDARD
END:VTIMEZONE
BEGIN:VEVENT
DTSTART;TZID=Europe/Andorra:20191130T110000
DTEND;TZID=Europe/Andorra:20191130T110000
DTSTAMP:20260423T015244
CREATED:20200729T173622Z
LAST-MODIFIED:20200729T191305Z
UID:11594-1575111600-1575111600@octubre.cat
SUMMARY:Mostra de youtubers
DESCRIPTION:Dissabte 30 de novembre a les 11.00h. Organitzada per ACICOM.	 \n  \n  \n\n 	 Lliurament de premis IES Concurs de Youtubers  La Mostra de Youtubers d’ACICOM va començar l’any 2017 amb una activitat de youtubers socials i compromesos dins del Festival de Cinema Ciutadà i Compromès. L’any 2018 es va emancipar del Festival obtenint entitat pròpia. Enguany la nostra intenció és consolidar una mostra de Youtubers que visibilitze la producció valenciana\, especialment en valencià\, de peces audiovisuals de vídeo on line sobre temes socials i compromesos que vagen més enllà del simple entreteniment i diversió.  Organitzat per ACICOM. Més informació i inscripcions.
URL:https://octubre.cat/activitat/mostra-de-youtubers/
LOCATION:No definit
CATEGORIES:Cinema
ATTACH;FMTTYPE=image/png:https://octubre.cat/www/wp-content/uploads/2020/07/activitat3389.png
END:VEVENT
END:VCALENDAR