BEGIN:VCALENDAR
VERSION:2.0
PRODID:-//Octubre Centre de Cultura Contemporània - ECPv5.1.6//NONSGML v1.0//EN
CALSCALE:GREGORIAN
METHOD:PUBLISH
X-WR-CALNAME:Octubre Centre de Cultura Contemporània
X-ORIGINAL-URL:https://octubre.cat
X-WR-CALDESC:Events for Octubre Centre de Cultura Contemporània
BEGIN:VTIMEZONE
TZID:Europe/Andorra
BEGIN:DAYLIGHT
TZOFFSETFROM:+0100
TZOFFSETTO:+0200
TZNAME:CEST
DTSTART:20080330T010000
END:DAYLIGHT
BEGIN:STANDARD
TZOFFSETFROM:+0200
TZOFFSETTO:+0100
TZNAME:CET
DTSTART:20081026T010000
END:STANDARD
END:VTIMEZONE
BEGIN:VEVENT
DTSTART;TZID=Europe/Andorra:20080621T123000
DTEND;TZID=Europe/Andorra:20080621T123000
DTSTAMP:20260420T210109
CREATED:20200729T181929Z
LAST-MODIFIED:20200730T035802Z
UID:12609-1214051400-1214051400@octubre.cat
SUMMARY:Mostra de l'Escola de Teatre de l'Octubre CCC
DESCRIPTION:Dissabte 21\, 12.30h Mostra de l’Escola de Teatre de l’Octubre CCC  \n  \n  \n\nMostra del treball realitzat pels alumnes de l’Escola de Teatre de l’Octubre CCC durant el curs que ara finalitza.  Direcció: Laura Useleti Intèrprets: Alejandro Salvador\, Daniel Martí de Ueses\, Mario Fides\, Encarna Martínez\, Santiago Giménez\, Zacarias Sanz\, Patrícia Galbis\, Alícia Rosselló\, Elionor Pérez i Jordi Peñalver    Contingut: 1a part: Treball d’exercicis col•lectius 2a part: Exercicis individuals i per parelles 3a part: Treball de l’escena “Teràpia mix”
URL:https://octubre.cat/activitat/mostra-de-lescola-de-teatre-de-loctubre-ccc/
LOCATION:No definit
CATEGORIES:Teatre
ATTACH;FMTTYPE=image/jpeg:https://octubre.cat/www/wp-content/uploads/2020/07/conferencia1.jpg
END:VEVENT
END:VCALENDAR