BEGIN:VCALENDAR
VERSION:2.0
PRODID:-//Octubre Centre de Cultura Contemporània - ECPv5.1.6//NONSGML v1.0//EN
CALSCALE:GREGORIAN
METHOD:PUBLISH
X-WR-CALNAME:Octubre Centre de Cultura Contemporània
X-ORIGINAL-URL:https://octubre.cat
X-WR-CALDESC:Events for Octubre Centre de Cultura Contemporània
BEGIN:VTIMEZONE
TZID:Europe/Andorra
BEGIN:DAYLIGHT
TZOFFSETFROM:+0100
TZOFFSETTO:+0200
TZNAME:CEST
DTSTART:20110327T010000
END:DAYLIGHT
BEGIN:STANDARD
TZOFFSETFROM:+0200
TZOFFSETTO:+0100
TZNAME:CET
DTSTART:20111030T010000
END:STANDARD
END:VTIMEZONE
BEGIN:VEVENT
DTSTART;TZID=Europe/Andorra:20111213T193000
DTEND;TZID=Europe/Andorra:20111213T193000
DTSTAMP:20260424T031814
CREATED:20200729T165641Z
LAST-MODIFIED:20200730T042915Z
UID:9303-1323804600-1323804600@octubre.cat
SUMMARY:Mostra de cinema de la Universitat Politècnica de València
DESCRIPTION:Dimarts 13 de desembre a les 19.30h. Projecció dels treballs “La victòria d’Úrsula”\, “Relacions 2.0” i “Limbus”  \n  \n  \n\nSelecció de treballs audiovisuals realitzats per titulats i professors de Comunicació Audiovisual de la Universitat Politècnica de València  Es projectaran els següents treballs:  La victòria d’Úrsula Direcció: Julio Martí i Nacho Ruipérez Intèrprets: Irene Ferrando\, Terele Pávez\, Jack Taylor\, Sergio Caballero\, Juan Verdú\, Pepe Garrigós i Iván Luis. Versió en valencià Curtmetratge preseleccionat per als Premis Goya\, que ja s’ha projectat a diversos festivals i ha obtingut diversos premis.  Relacions 2.0 Direcció: Mari Carmen Redondo i Eugeni Alcañiz (titulats en comunicació audiovisual per la UPV) Enregistrat a Sueca\, Gandia i Bogotà Documental que estudia la relació a distància (per internet) entre els dos realitzadors i\, d’altra banda\, com eren les relacions a finals dels anys 70\, quan els pares del realitzador estaven separats pel servei militar.  Limbus Direcció: Enrique Nebot i Enric Burgos (professor de la UPV al Campus de Gandia) Curmetratge de ficció que conta la història de dos homes que\, després de realitzar una jugada bruta\, se n’adonen que les coses no han acabat com esperaven.  Posteriorment a les projeccions hi haurà un debat amb els realitzadors.
URL:https://octubre.cat/activitat/mostra-de-cinema-de-la-universitat-politecnica-de-valencia/
LOCATION:No definit
CATEGORIES:Cinema
ATTACH;FMTTYPE=image/jpeg:https://octubre.cat/www/wp-content/uploads/2020/07/activitat1538.jpg
END:VEVENT
END:VCALENDAR