BEGIN:VCALENDAR
VERSION:2.0
PRODID:-//Octubre Centre de Cultura Contemporània - ECPv5.1.6//NONSGML v1.0//EN
CALSCALE:GREGORIAN
METHOD:PUBLISH
X-WR-CALNAME:Octubre Centre de Cultura Contemporània
X-ORIGINAL-URL:https://octubre.cat
X-WR-CALDESC:Events for Octubre Centre de Cultura Contemporània
BEGIN:VTIMEZONE
TZID:Europe/Andorra
BEGIN:DAYLIGHT
TZOFFSETFROM:+0100
TZOFFSETTO:+0200
TZNAME:CEST
DTSTART:20160327T010000
END:DAYLIGHT
BEGIN:STANDARD
TZOFFSETFROM:+0200
TZOFFSETTO:+0100
TZNAME:CET
DTSTART:20161030T010000
END:STANDARD
END:VTIMEZONE
BEGIN:VEVENT
DTSTART;TZID=Europe/Andorra:20160413T190000
DTEND;TZID=Europe/Andorra:20160413T190000
DTSTAMP:20260421T151822
CREATED:20200729T171749Z
LAST-MODIFIED:20200729T185448Z
UID:10612-1460574000-1460574000@octubre.cat
SUMMARY:'Monte bajo'\, de Julián Esteban
DESCRIPTION:Dimecres 13 d’abril a les 19.00h. Projecció inclosa en el cicle de cinema social i presentada pel crític Jorge Castillejo. Entrada lliure.  \n  \n  \n\n Projecció presentada per Jorge Castillejo.  Pel·lícula ambientada en els hàbits rural d’una família de pastors que viuen a les muntanyes de Toledo. Jesús és un jove pastor que ha crescut envoltat de ramats i amb poc contacte amb d’altres nens amb qui comparar-se i aprendre. Els habitants del poble més proper i la seua pròpia família el consideren un deficient mental\, però\, sobretot\, és la víctima en la que tots projecten les seues ansietats\, traumes i frustracions.  Direcció i guió: Julián Esteban (1989) Fotografia: Ángel Luis Fernández Repartiment: Maria Casares\, Jorge Sanz\, Ovidi Montllor\, Julieta Serrano\, Emilio Gutiérrez Caba\, Rosana Pastor Producció: Julián E. Rivera PC Durada: 96’  — Entrada lliure Organitzat amb la col·laboració d’El Cine Social Coordinació del cicle: Antonio Lloréns
URL:https://octubre.cat/activitat/monte-bajo-de-julian-esteban/
LOCATION:Sala d’actes
CATEGORIES:Tercer cicle de cinema social
ATTACH;FMTTYPE=image/jpeg:https://octubre.cat/www/wp-content/uploads/2020/07/activitat2554.jpg
END:VEVENT
END:VCALENDAR