BEGIN:VCALENDAR
VERSION:2.0
PRODID:-//Octubre Centre de Cultura Contemporània - ECPv5.1.6//NONSGML v1.0//EN
CALSCALE:GREGORIAN
METHOD:PUBLISH
X-WR-CALNAME:Octubre Centre de Cultura Contemporània
X-ORIGINAL-URL:https://octubre.cat
X-WR-CALDESC:Events for Octubre Centre de Cultura Contemporània
BEGIN:VTIMEZONE
TZID:Europe/Andorra
BEGIN:DAYLIGHT
TZOFFSETFROM:+0100
TZOFFSETTO:+0200
TZNAME:CEST
DTSTART:20090329T010000
END:DAYLIGHT
BEGIN:STANDARD
TZOFFSETFROM:+0200
TZOFFSETTO:+0100
TZNAME:CET
DTSTART:20091025T010000
END:STANDARD
END:VTIMEZONE
BEGIN:VEVENT
DTSTART;TZID=Europe/Andorra:20090510T190000
DTEND;TZID=Europe/Andorra:20090510T190000
DTSTAMP:20260420T213745
CREATED:20200729T182434Z
LAST-MODIFIED:20200729T182434Z
UID:12829-1241982000-1241982000@octubre.cat
SUMMARY:Mono León Trio + convidat especial
DESCRIPTION:Diumenge 10 de maig\, a les 19.00h: Actuació de Mono León Trio (Argentina) + convidat especial.   \n  \n  \n\nGerardo (Mono) León és un compositor i guitarrista patagònic que explora els sons de les músiques més diverses. Després de la seua incursió en el rock amb La Raza\, es va bolcar per complet en la fusió\, sempre dins del jazz\, de tangos\, bossa nova i funk. El seu disc Influenciado és una compilació de temes molt personals i carregats de poesia rítmica\, que delaten la naturalesa del Mono… un animal urbà atent a tot el que es mou al seu voltant per tal de plasmar-lo en lletres i acords de guitarra.   Formació:  Gerardo León: guitarres Rogério Campas: baix elèctric Víctor Través: percussió  Artista convidat:  Abraham Rivas: flauta
URL:https://octubre.cat/activitat/mono-leon-trio-convidat-especial/
LOCATION:No definit
CATEGORIES:Diumenges de Jazz!
ATTACH;FMTTYPE=image/jpeg:https://octubre.cat/www/wp-content/uploads/2020/07/activitat857.jpg
END:VEVENT
END:VCALENDAR