BEGIN:VCALENDAR
VERSION:2.0
PRODID:-//Octubre Centre de Cultura Contemporània - ECPv5.1.6//NONSGML v1.0//EN
CALSCALE:GREGORIAN
METHOD:PUBLISH
X-WR-CALNAME:Octubre Centre de Cultura Contemporània
X-ORIGINAL-URL:https://octubre.cat
X-WR-CALDESC:Events for Octubre Centre de Cultura Contemporània
BEGIN:VTIMEZONE
TZID:Europe/Andorra
BEGIN:DAYLIGHT
TZOFFSETFROM:+0100
TZOFFSETTO:+0200
TZNAME:CEST
DTSTART:20250330T010000
END:DAYLIGHT
BEGIN:STANDARD
TZOFFSETFROM:+0200
TZOFFSETTO:+0100
TZNAME:CET
DTSTART:20251026T010000
END:STANDARD
END:VTIMEZONE
BEGIN:VEVENT
DTSTART;TZID=Europe/Andorra:20250922T190000
DTEND;TZID=Europe/Andorra:20250922T190000
DTSTAMP:20260421T121548
CREATED:20250916T081751Z
LAST-MODIFIED:20250918T151436Z
UID:23632-1758567600-1758567600@octubre.cat
SUMMARY:Mondiacult 2025
DESCRIPTION:“Les necessitats del sector cultural d’una llengua minoritzada: el cas valencià” \nAmb les intervencions de:\n—Anna Oliver\, presidenta d’Acció Cultural del País Valencià.\n—Marian Díez\, gestora cultural\,\n—Pau Rausell Köster\, director de l’Àrea de Recerca en Economia de la Cultura i del Turisme (ECONCULT) de la Universitat de València \nEl fòrum mundial de cultura MONDIACULT\, impulsat per la UNESCO\, és un espai de trobada mundial que reuneix institucions\, entitats i professionals per reflexionar sobre el present i el futur de la cultura \nMés informació
URL:https://octubre.cat/activitat/mondiacult-2025/
LOCATION:Sala d’actes
CATEGORIES:Conferències i congressos
ATTACH;FMTTYPE=image/jpeg:https://octubre.cat/www/wp-content/uploads/2025/09/mondiacult.jpg
END:VEVENT
END:VCALENDAR