BEGIN:VCALENDAR
VERSION:2.0
PRODID:-//Octubre Centre de Cultura Contemporània - ECPv5.1.6//NONSGML v1.0//EN
CALSCALE:GREGORIAN
METHOD:PUBLISH
X-WR-CALNAME:Octubre Centre de Cultura Contemporània
X-ORIGINAL-URL:https://octubre.cat
X-WR-CALDESC:Events for Octubre Centre de Cultura Contemporània
BEGIN:VTIMEZONE
TZID:Europe/Andorra
BEGIN:DAYLIGHT
TZOFFSETFROM:+0100
TZOFFSETTO:+0200
TZNAME:CEST
DTSTART:20100328T010000
END:DAYLIGHT
BEGIN:STANDARD
TZOFFSETFROM:+0200
TZOFFSETTO:+0100
TZNAME:CET
DTSTART:20101031T010000
END:STANDARD
END:VTIMEZONE
BEGIN:VEVENT
DTSTART;TZID=Europe/Andorra:20100113T193000
DTEND;TZID=Europe/Andorra:20100113T193000
DTSTAMP:20260420T182110
CREATED:20200729T164701Z
LAST-MODIFIED:20200729T182739Z
UID:8701-1263411000-1263411000@octubre.cat
SUMMARY:Món rural i sobirania alimentària. En qui punt ens trobem?
DESCRIPTION:Dimecres 13 de gener\, a les 19.30h: Cicle El sistema alimentari\, a debat (I): “Món rural i sobirania alimentària. En qui punt ens trobem?”\, amb Gustavo Duch i Paul Nicholson.   \n  \n  \n\nEl sistema alimentari\, a debat (I)  Món rural i sobirania alimentària. En qui punt ens trobem?   Sessió inaugural sobre el nou cicle de l’IdT centrat en l’alimentació i la globalització.  Amb la intervenció de:   Gustavo Duch (Barcelona\, 1965)\, director de Veterinaris sense Fronteres entre 1991 i 2009\, ha sigut membre de la Junta Directiva de la Federació Catalana d’ONGD i president d’AGORA NordSud. En els darrers 7 anys ha col·laborat estretament amb moviments i campanyes per la Sobirania Alimentària dels Pobles. També escriu en diversos mitjans com ara El Periódico de Catalunya\, Público o El Correo Vasco.   Paul Nicholson\, coordinador de Vía Campesina Europa\, escocès de naixement i basc d’adopció\, és la veu dels agricultors d’Euskadi agrupats sota EHNE\, organització que s’integra a la COAG en l’àmbit estatal. En representació del seu sindicat i de Vía Campesina\, ha seguit de prop les diferents cimeres sobre liberalització del comerç mundial i ha contribuït a coordinar aquest ampli moviment internacional que fa servir Internet per a defensar polítiques agràries apegades a la terra.   Presentarà l’acte Beatriu Gascó\, representant de Food Sovereignty.
URL:https://octubre.cat/activitat/mon-rural-i-sobirania-alimentaria-en-qui-punt-ens-trobem/
LOCATION:No definit
CATEGORIES:Institut del Territori
ATTACH;FMTTYPE=image/jpeg:https://octubre.cat/www/wp-content/uploads/2020/07/activitat1045.jpg
END:VEVENT
END:VCALENDAR