BEGIN:VCALENDAR
VERSION:2.0
PRODID:-//Octubre Centre de Cultura Contemporània - ECPv5.1.6//NONSGML v1.0//EN
CALSCALE:GREGORIAN
METHOD:PUBLISH
X-WR-CALNAME:Octubre Centre de Cultura Contemporània
X-ORIGINAL-URL:https://octubre.cat
X-WR-CALDESC:Events for Octubre Centre de Cultura Contemporània
BEGIN:VTIMEZONE
TZID:Europe/Andorra
BEGIN:DAYLIGHT
TZOFFSETFROM:+0100
TZOFFSETTO:+0200
TZNAME:CEST
DTSTART:20100328T010000
END:DAYLIGHT
BEGIN:STANDARD
TZOFFSETFROM:+0200
TZOFFSETTO:+0100
TZNAME:CET
DTSTART:20101031T010000
END:STANDARD
END:VTIMEZONE
BEGIN:VEVENT
DTSTART;TZID=Europe/Andorra:20100529T100000
DTEND;TZID=Europe/Andorra:20100529T100000
DTSTAMP:20260421T010225
CREATED:20200729T164946Z
LAST-MODIFIED:20200730T042517Z
UID:8865-1275127200-1275127200@octubre.cat
SUMMARY:Mitjans de comunicació públics i alternatius
DESCRIPTION:Dissabte 29 de maig\, a partir de les 10.00h: “Mitjans de comunicació públics i alternatius”. Fòrum programàtic d’EUPV.   \n  \n  \n\nPrograma  10.00h. Presentació\, a càrrec d’Amadeu Sanchis (conseller de RTVV per EUPV).   10.30h. La necessitat de RTVV com a eina de transmissió de valors democràtics\, vertebració del País i normalització lingüística del valencià\, amb Natxo Ángel (membre del Comitè d’Empresa de RTVV per CCOO-PV) i Jaume Muñoz (representant de la secció sindical d’Intersindical Valenciana a RTVV).   12.30h. Anàlisi del Projecte de Llei General de Comunicació Audiovisual. La radiotelevisió pública com a servei públic essencial\, a càrrec de José Manuel Martín Medem (periodista i exconseller de RTVE per IU).   16.00h. Llibertat d’expressió i drets en Internet.   17.00h. Taula rodona. Els mitjans de comunicació alternatius\, amb  José Ramón Samper (membre d’Artegalia Radio)\, Hugo Martínez Abarca (blocaire)\, Juan Enrique Tur (director de L’Informatiu) i Javier Parra (director de LaRepublica.es).
URL:https://octubre.cat/activitat/mitjans-de-comunicacio-publics-i-alternatius/
LOCATION:No definit
CATEGORIES:Conferències i congressos
ATTACH;FMTTYPE=image/jpeg:https://octubre.cat/www/wp-content/uploads/2020/07/conferencia1.jpg
END:VEVENT
END:VCALENDAR