BEGIN:VCALENDAR
VERSION:2.0
PRODID:-//Octubre Centre de Cultura Contemporània - ECPv5.1.6//NONSGML v1.0//EN
CALSCALE:GREGORIAN
METHOD:PUBLISH
X-WR-CALNAME:Octubre Centre de Cultura Contemporània
X-ORIGINAL-URL:https://octubre.cat
X-WR-CALDESC:Events for Octubre Centre de Cultura Contemporània
BEGIN:VTIMEZONE
TZID:Europe/Andorra
BEGIN:DAYLIGHT
TZOFFSETFROM:+0100
TZOFFSETTO:+0200
TZNAME:CEST
DTSTART:20080330T010000
END:DAYLIGHT
BEGIN:STANDARD
TZOFFSETFROM:+0200
TZOFFSETTO:+0100
TZNAME:CET
DTSTART:20081026T010000
END:STANDARD
END:VTIMEZONE
BEGIN:VEVENT
DTSTART;TZID=Europe/Andorra:20081211T200000
DTEND;TZID=Europe/Andorra:20081211T200000
DTSTAMP:20260420T203658
CREATED:20200729T182024Z
LAST-MODIFIED:20200730T035835Z
UID:12664-1229025600-1229025600@octubre.cat
SUMMARY:Mishima
DESCRIPTION:Dijous 11 de desembre a les 20.00h: Mishima (indie / Barcelona)  \n  \n  \n\nMishima: indie / Barcelona  Vesprades que esclaten com si foren matins\, aspirar a ser una cançó\, provar un cop l’amor i tenir set d’ell tota la vida… Romàntic i nostàlgic\, tot i que també estranyament optimista\, el quart àlbum de Mishima\, “Set Tota La Vida”\, ens endinsa un cop més al cor i al cap de David Carabén\, un compositor complet\, antiheroi romàntic de veu personal i paraula precisa. Mishima es varen formar a Barcelona l’any 1999\, i aquest és el seu segon àlbum en català\, abans feien servir l’anglès. Durant aquestos anys els han comparat amb els grans mestres de l’ofebreria pop com ara Arab Strap\, The Magnetics Fields o The Divine Comedy. A l’Octubre es presentaran\, per primera vegada a València\, amb tot el grup\, que a banda de David Carabén\, està format per: Marc Llobet (ex Felicidad Blanch)\, Dani Vega (Egotrip\, Vyvian)\, Òscar d’Aniello (Facto Delafé y las Flores Azules) i Dani Acedo (Vyvian).
URL:https://octubre.cat/activitat/mishima/
LOCATION:No definit
CATEGORIES:Cicle de música pop
ATTACH;FMTTYPE=image/jpeg:https://octubre.cat/www/wp-content/uploads/2020/07/activitat674.jpg
END:VEVENT
END:VCALENDAR