BEGIN:VCALENDAR
VERSION:2.0
PRODID:-//Octubre Centre de Cultura Contemporània - ECPv5.1.6//NONSGML v1.0//EN
CALSCALE:GREGORIAN
METHOD:PUBLISH
X-WR-CALNAME:Octubre Centre de Cultura Contemporània
X-ORIGINAL-URL:https://octubre.cat
X-WR-CALDESC:Events for Octubre Centre de Cultura Contemporània
BEGIN:VTIMEZONE
TZID:Europe/Andorra
BEGIN:DAYLIGHT
TZOFFSETFROM:+0100
TZOFFSETTO:+0200
TZNAME:CEST
DTSTART:20160327T010000
END:DAYLIGHT
BEGIN:STANDARD
TZOFFSETFROM:+0200
TZOFFSETTO:+0100
TZNAME:CET
DTSTART:20161030T010000
END:STANDARD
END:VTIMEZONE
BEGIN:VEVENT
DTSTART;TZID=Europe/Andorra:20160302T190000
DTEND;TZID=Europe/Andorra:20160302T190000
DTSTAMP:20260421T140423
CREATED:20200729T171702Z
LAST-MODIFIED:20200729T185430Z
UID:10564-1456945200-1456945200@octubre.cat
SUMMARY:'Mis caminos a través de la danza'\, de Daniel G. Cabrero
DESCRIPTION:Dimecres 2 de març a les 19.00h. Projecció inclosa en el Cicle de Cinema Social. Entrada lliure.  \n  \n  \n\n Un documental (el debut en format llarg del director) que narra la intensa i prolífica vida de la ballarina\, directora\, productora\, coreògrafa i pedagoga Mariemma (1917-2008).  Direcció\, producció i guió: Daniel G. Cabrero (2010) V.O. en francès i castellà Música: Pakito Álvarez Hi participen: Enrique Morente\, Aída Gómez\, Elio Berhanyer\, Lola Greco\, Antonio Canales\, Elvira Andrés\, Tomasa Benito “Tomy”\, Joaquín Cortés\, Mari Carmen Luzuriaga\, Goyo Montero\, Sara Lezana\, Roger Salas\, Cristina Marinero\, José Luis Ponce\, Conchita del Mar\, Enrique Novo\, Mayte Bajo\, Carlota Mercé\, Rosa Ruiz\, Rafael Cerdá\, Enrique Luzuriaga i Mariemma. Productora: Danseuse Films Durada: 90’  — Entrada lliure Organitzat amb la col·laboració d’El Cine Social. Coordinació del cicle: Antonio Lloréns
URL:https://octubre.cat/activitat/mis-caminos-a-traves-de-la-danza-de-daniel-g-cabrero/
LOCATION:Sala d’actes
CATEGORIES:Tercer cicle de cinema social
ATTACH;FMTTYPE=image/jpeg:https://octubre.cat/www/wp-content/uploads/2020/07/activitat2531.jpg
END:VEVENT
END:VCALENDAR