BEGIN:VCALENDAR
VERSION:2.0
PRODID:-//Octubre Centre de Cultura Contemporània - ECPv5.1.6//NONSGML v1.0//EN
CALSCALE:GREGORIAN
METHOD:PUBLISH
X-WR-CALNAME:Octubre Centre de Cultura Contemporània
X-ORIGINAL-URL:https://octubre.cat
X-WR-CALDESC:Events for Octubre Centre de Cultura Contemporània
BEGIN:VTIMEZONE
TZID:Europe/Andorra
BEGIN:DAYLIGHT
TZOFFSETFROM:+0100
TZOFFSETTO:+0200
TZNAME:CEST
DTSTART:20110327T010000
END:DAYLIGHT
BEGIN:STANDARD
TZOFFSETFROM:+0200
TZOFFSETTO:+0100
TZNAME:CET
DTSTART:20111030T010000
END:STANDARD
END:VTIMEZONE
BEGIN:VEVENT
DTSTART;TZID=Europe/Andorra:20110302T193000
DTEND;TZID=Europe/Andorra:20110302T193000
DTSTAMP:20260420T203915
CREATED:20200729T165441Z
LAST-MODIFIED:20200730T042745Z
UID:9184-1299094200-1299094200@octubre.cat
SUMMARY:Mirades sonores
DESCRIPTION:Dimecres 2 de març\, a les 19.30h: “Mirades sonores”\, concert a càrrec del quartet de corda “A piacere”.   \n  \n  \n\nPrograma del concert  S. Rachmaninoff (1873-1943) Quartet de corda nº1. Romance  A. Webern (1883-1945) Langsamer Satz  H. Wolf (1860-1903) Serenata Italiana  A. Glazunov (1865-1936) 5 Novelettes op.15
URL:https://octubre.cat/activitat/mirades-sonores-4/
LOCATION:No definit
CATEGORIES:Cicle de Música de Cambra
ATTACH;FMTTYPE=image/png:https://octubre.cat/www/wp-content/uploads/2020/07/activitat1409.png
END:VEVENT
END:VCALENDAR