BEGIN:VCALENDAR
VERSION:2.0
PRODID:-//Octubre Centre de Cultura Contemporània - ECPv5.1.6//NONSGML v1.0//EN
CALSCALE:GREGORIAN
METHOD:PUBLISH
X-WR-CALNAME:Octubre Centre de Cultura Contemporània
X-ORIGINAL-URL:https://octubre.cat
X-WR-CALDESC:Events for Octubre Centre de Cultura Contemporània
BEGIN:VTIMEZONE
TZID:Europe/Andorra
BEGIN:DAYLIGHT
TZOFFSETFROM:+0100
TZOFFSETTO:+0200
TZNAME:CEST
DTSTART:20100328T010000
END:DAYLIGHT
BEGIN:STANDARD
TZOFFSETFROM:+0200
TZOFFSETTO:+0100
TZNAME:CET
DTSTART:20101031T010000
END:STANDARD
END:VTIMEZONE
BEGIN:VEVENT
DTSTART;TZID=Europe/Andorra:20101214T193000
DTEND;TZID=Europe/Andorra:20101214T193000
DTSTAMP:20260420T183057
CREATED:20200729T165255Z
LAST-MODIFIED:20200730T042644Z
UID:9076-1292355000-1292355000@octubre.cat
SUMMARY:Mirades sonores
DESCRIPTION:Dimarts 14 de desembre\, a les 19.30h: Mirades sonores\, a càrrec del quartet de corda A piacere.   \n  \n  \n\nPrograma  F.Mendelssohn (1809-1847) Quartet de corda nº6 en Fa menor op.80  F.Schubert (1797-1828) Quartet de corda nº14 en Re menor D.810 “La Mort i la Donzella”
URL:https://octubre.cat/activitat/mirades-sonores-2/
LOCATION:No definit
CATEGORIES:Cicle de Música de Cambra
ATTACH;FMTTYPE=image/png:https://octubre.cat/www/wp-content/uploads/2020/07/activitat1328.png
END:VEVENT
END:VCALENDAR