BEGIN:VCALENDAR
VERSION:2.0
PRODID:-//Octubre Centre de Cultura Contemporània - ECPv5.1.6//NONSGML v1.0//EN
CALSCALE:GREGORIAN
METHOD:PUBLISH
X-WR-CALNAME:Octubre Centre de Cultura Contemporània
X-ORIGINAL-URL:https://octubre.cat
X-WR-CALDESC:Events for Octubre Centre de Cultura Contemporània
BEGIN:VTIMEZONE
TZID:Europe/Andorra
BEGIN:DAYLIGHT
TZOFFSETFROM:+0100
TZOFFSETTO:+0200
TZNAME:CEST
DTSTART:20100328T010000
END:DAYLIGHT
BEGIN:STANDARD
TZOFFSETFROM:+0200
TZOFFSETTO:+0100
TZNAME:CET
DTSTART:20101031T010000
END:STANDARD
END:VTIMEZONE
BEGIN:VEVENT
DTSTART;TZID=Europe/Andorra:20100415T000000
DTEND;TZID=Europe/Andorra:20100606T000000
DTSTAMP:20260422T083650
CREATED:20200729T164856Z
LAST-MODIFIED:20200829T151635Z
UID:8817-1271289600-1275782400@octubre.cat
SUMMARY:Mirades creuades. Antoni Miró i Miquel Martí i Pol
DESCRIPTION:Del 15 d’abril al 6 de juny (prorrogada): “Mirades creuades”\, una exposició de Toni Miró\, inspirada en l’obra de Miquel Martí i Pol. \nMiquel Martí i Pol deixà empremta amb la seua poesia que remou sentiments i belluga pensaments. Fou un mestre de l’art de la paraula lírica. D’altres\, com Antoni Miró\, en llegir-la suggereixen imatges\, colors\, formes\, textures: treballen l’art de la imatge\, fent-la poesia. De la cruïlla d’artistes només poden sortir dues coses: art i més art. L’exposició Mirades creuades aplega els quadres que el pintor valencià va crear inspirat per la lectura de Suite de Parlavà\, obra del poeta osonenc publicada el 1991. Dos mons artístics pertanyents a dos amics. La seua relació es forjà arran del contacte epistolar intens i sincer\, de l’admiració de l’un per l’altre. Un poeta i un pintor\, tots dos inquiets\, tots dos interessats per la creació artística en les seues respectives disciplines\, que van coincidir un dia en la dècada dels 90 i que van poder creuar la seua obra i una sèrie de converses\, orals i escrites\, sobre les seues preocupacions vitals i artístiques. Un punt de connexió fortuït que ens ofereix\, més de quinze anys després\, una base de reflexió important per a entendre la connexió entre dos llenguatges distants\, com la poesia i la pintura. \nOrganitzada per l’Octubre CCC amb la col·laboració de l’Institut d’Estudis Catalans.
URL:https://octubre.cat/activitat/mirades-creuades/
LOCATION:Sala d’exposicions
CATEGORIES:Exposicions
ATTACH;FMTTYPE=image/jpeg:https://octubre.cat/www/wp-content/uploads/2020/07/activitat1166.jpg
END:VEVENT
END:VCALENDAR