BEGIN:VCALENDAR
VERSION:2.0
PRODID:-//Octubre Centre de Cultura Contemporània - ECPv5.1.6//NONSGML v1.0//EN
CALSCALE:GREGORIAN
METHOD:PUBLISH
X-WR-CALNAME:Octubre Centre de Cultura Contemporània
X-ORIGINAL-URL:https://octubre.cat
X-WR-CALDESC:Events for Octubre Centre de Cultura Contemporània
BEGIN:VTIMEZONE
TZID:Europe/Andorra
BEGIN:DAYLIGHT
TZOFFSETFROM:+0100
TZOFFSETTO:+0200
TZNAME:CEST
DTSTART:20080330T010000
END:DAYLIGHT
BEGIN:STANDARD
TZOFFSETFROM:+0200
TZOFFSETTO:+0100
TZNAME:CET
DTSTART:20081026T010000
END:STANDARD
END:VTIMEZONE
BEGIN:VEVENT
DTSTART;TZID=Europe/Andorra:20081002T200000
DTEND;TZID=Europe/Andorra:20081002T200000
DTSTAMP:20260421T014643
CREATED:20200729T182006Z
LAST-MODIFIED:20200730T035828Z
UID:12646-1222977600-1222977600@octubre.cat
SUMMARY:Miquel Pujadó + Hugo Mas
DESCRIPTION:Dijous 2 d’octubre\, a les 20.00h: Miquel Pujadó + Hugo Mas  \n  \n  \n\nMiquel Pujadó: cançó / Terrassa Cançó d’autor per sessió doble amb l’Ovidi i la cançó francesa com a referents inneludibles. Així\, Miquel Pujadó ens presentarà un concert antològic\, a veu i guitarra\, on tampoc hi mancaran algunes cançons inèdites destinades als seu proper CD\, ni els temes del seu repertori que estan més relacionats amb el País Valencià: “Els feies nosa” (escrit arran de la mort de l’Ovidi)\, “Sóc un peix de terra endins” (versionat per Paco Muñoz) i “Dins el ventre dels Estats” (tema pluridialectal enregistrat amb Vicent Torrent\, d’Al Tall).  Hugo Mas: cançó / Alcoi Hugo Mas\, cantautor d’Alcoi\, ens presentarà\, acompanyat del piano de Juan A. Recuerda i la seua guitarra\, un espectacle\, que a finals d’any també serà disc\, amb cançons cosides\, poesies alienes i pròpies\, veu\, gest\, i improvisació. En definitiva\, un espectacle intimista\, emotiu i amb profund sentit dramàtic.
URL:https://octubre.cat/activitat/miquel-pujado-hugo-mas/
LOCATION:No definit
CATEGORIES:Cicle de música pop
ATTACH;FMTTYPE=image/jpeg:https://octubre.cat/www/wp-content/uploads/2020/07/musica1.jpg
END:VEVENT
END:VCALENDAR