BEGIN:VCALENDAR
VERSION:2.0
PRODID:-//Octubre Centre de Cultura Contemporània - ECPv5.1.6//NONSGML v1.0//EN
CALSCALE:GREGORIAN
METHOD:PUBLISH
X-WR-CALNAME:Octubre Centre de Cultura Contemporània
X-ORIGINAL-URL:https://octubre.cat
X-WR-CALDESC:Events for Octubre Centre de Cultura Contemporània
BEGIN:VTIMEZONE
TZID:Europe/Andorra
BEGIN:DAYLIGHT
TZOFFSETFROM:+0100
TZOFFSETTO:+0200
TZNAME:CEST
DTSTART:20080330T010000
END:DAYLIGHT
BEGIN:STANDARD
TZOFFSETFROM:+0200
TZOFFSETTO:+0100
TZNAME:CET
DTSTART:20081026T010000
END:STANDARD
END:VTIMEZONE
BEGIN:VEVENT
DTSTART;TZID=Europe/Andorra:20080307T200000
DTEND;TZID=Europe/Andorra:20080307T200000
DTSTAMP:20260420T221519
CREATED:20200729T181747Z
LAST-MODIFIED:20200730T035643Z
UID:12508-1204920000-1204920000@octubre.cat
SUMMARY:Minimal TV + Pedro Trotz (Palma de Mallorca)
DESCRIPTION:Divendres 7\, 20.00h. Minimal tv es basa en la creació i transformació d’imatges\, i la seua posterior barreja en temps real a sincronisme de la música.   Pedro Trotz\, productor i tècnic de so va realitzar les seues primeres gravacions de música electrònica experimental a mitjan dels 80\, amb un estil entre industrial i el cut-up.   \n  \n  \n\nMinimal tv es basa en la creació i transformació d’imatges\, i la seua posterior barreja en temps real a sincronisme de la música. Sempre dominat per un estil menys gràfic\, abusant més del video i las animacions creades en base fotogràfica.  Pedro Trotz\, productor i tècnic de so va realitzar les seues primeres gravacions de música electrònica experimental a mitjan dels 80\, amb un estil entre industrial i el cut-up. Ja als 90\, col·laborà en la gravació d’alguns dels primers hits de l’sescena house mallorquina\, contribuint a la difusió de la música electrònica des del col·lectivo Tecno-familia i formant part posteriorment del col·lectiu i segell discogràfico Virus/Antivirus.
URL:https://octubre.cat/activitat/minimal-tv-pedro-trotz-palma-de-mallorca/
LOCATION:No definit
CATEGORIES:Cicle S0N1V1S10
ATTACH;FMTTYPE=image/jpeg:https://octubre.cat/www/wp-content/uploads/2020/07/artvisual1.jpg
END:VEVENT
END:VCALENDAR