BEGIN:VCALENDAR
VERSION:2.0
PRODID:-//Octubre Centre de Cultura Contemporània - ECPv5.1.6//NONSGML v1.0//EN
CALSCALE:GREGORIAN
METHOD:PUBLISH
X-WR-CALNAME:Octubre Centre de Cultura Contemporània
X-ORIGINAL-URL:https://octubre.cat
X-WR-CALDESC:Events for Octubre Centre de Cultura Contemporània
BEGIN:VTIMEZONE
TZID:Europe/Andorra
BEGIN:DAYLIGHT
TZOFFSETFROM:+0100
TZOFFSETTO:+0200
TZNAME:CEST
DTSTART:20100328T010000
END:DAYLIGHT
BEGIN:STANDARD
TZOFFSETFROM:+0200
TZOFFSETTO:+0100
TZNAME:CET
DTSTART:20101031T010000
END:STANDARD
END:VTIMEZONE
BEGIN:VEVENT
DTSTART;TZID=Europe/Andorra:20101103T153000
DTEND;TZID=Europe/Andorra:20101103T153000
DTSTAMP:20260421T223559
CREATED:20200729T165144Z
LAST-MODIFIED:20200730T042612Z
UID:8996-1288798200-1288798200@octubre.cat
SUMMARY:Millora de la productivitat i organització personal
DESCRIPTION:Dimecres 3 de novembre\, a les 15.30h: Organitza l’ADCV.   \n  \n  \n\nSeminari pràctic per a professionals del sector de la comunicació i el disseny  Treballes moltes hores perquè altres controlen el teu temps?  Tens la sensació de no poder amb tot o de ser un simple “apagafocs”?  Coneixes la rendibilitat dels projectes i clients amb els quals treballes? Saps que amb alguns perds diners? Tens un pla d’acció concret per a incrementar la rendibilitat?  Realitzes de manera organitzada i sistemàtica una tasca comercial per assegurar el creixement del teu negoci o culpes de la manca de projectes a la situació\, al fet que els clients no volen invertir\, etc.? Estàs satisfet amb els diners que queden en acabar el mes\, després de pagar col·laboradors i proveïdors?  Té tot açò\, a més\, com a conseqüència una manca de dedicació a la família\, amics i aficions?   Adreçat a persones que estiguen disposades a modificar els seus hàbits i comportaments poc productius i a implantar mètodes eficaços de gestió: millora de resultats\, major competitivitat i satisfacció personal.   Assistència gratuïta. Places limitades.   Organitza: Associació de Dissenyadors de la Comunitat Valenciana
URL:https://octubre.cat/activitat/millora-de-la-productivitat-i-organitzacio-personal/
LOCATION:No definit
CATEGORIES:Literatura
ATTACH;FMTTYPE=image/jpeg:https://octubre.cat/www/wp-content/uploads/2020/07/activitat1288.jpg
END:VEVENT
END:VCALENDAR