BEGIN:VCALENDAR
VERSION:2.0
PRODID:-//Octubre Centre de Cultura Contemporània - ECPv5.1.6//NONSGML v1.0//EN
CALSCALE:GREGORIAN
METHOD:PUBLISH
X-WR-CALNAME:Octubre Centre de Cultura Contemporània
X-ORIGINAL-URL:https://octubre.cat
X-WR-CALDESC:Events for Octubre Centre de Cultura Contemporània
BEGIN:VTIMEZONE
TZID:Europe/Andorra
BEGIN:DAYLIGHT
TZOFFSETFROM:+0100
TZOFFSETTO:+0200
TZNAME:CEST
DTSTART:20110327T010000
END:DAYLIGHT
BEGIN:STANDARD
TZOFFSETFROM:+0200
TZOFFSETTO:+0100
TZNAME:CET
DTSTART:20111030T010000
END:STANDARD
END:VTIMEZONE
BEGIN:VEVENT
DTSTART;TZID=Europe/Andorra:20110114T200000
DTEND;TZID=Europe/Andorra:20110114T200000
DTSTAMP:20260420T175532
CREATED:20200729T165359Z
LAST-MODIFIED:20200730T042710Z
UID:9139-1295035200-1295035200@octubre.cat
SUMMARY:Miguel Ángel García
DESCRIPTION:Divendres 14 de gener\, a les 20.00h: Miguel Ángel García (Euskadi).   \n  \n  \n\nEl treball de l’artista basc Miguel A. García tracta sobre el so i la seua organització formal\, a mig camí entre la improvisació lliure i la composició electroacústica. La seua proposta de directe combina sonoritats electròniques\, registres de camp i instruments “reals”\, en busca d’una experiència intensa\, intimista i immersiva\, però respectuosa amb l’oient. Format en Belles Arts audiovisuals\, ha sigut artífex de projectes com Xedh\, Baba Llaga o Válvula Antirretorno.  Els seus treballs s’han editat a segells com Homophoni (EUA)\, White Line (Anglaterra) o Triple Bath (Grècia) i ha portat el seu directe fins a festivals com Sonic Circuits\, Experimentaclub\, Ertz\, LEM o Stoy Pa Landet\, així com també alguns museus i galeries d’art\, des del Guggenheim de Bilbao fins a El Tanque de Santa Cruz de Tenerife passant pel Tou Scene noruec o el Sztuki Wspólczesnej Laznia polonès. En l’actualitat\, també gestiona els netlables Larraskito i del festival Zarata Fest\, tots dos a Bilbao.
URL:https://octubre.cat/activitat/miguel-angel-garcia/
LOCATION:No definit
CATEGORIES:Vibra
ATTACH;FMTTYPE=image/jpeg:https://octubre.cat/www/wp-content/uploads/2020/07/activitat1362.jpg
END:VEVENT
END:VCALENDAR