BEGIN:VCALENDAR
VERSION:2.0
PRODID:-//Octubre Centre de Cultura Contemporània - ECPv5.1.6//NONSGML v1.0//EN
CALSCALE:GREGORIAN
METHOD:PUBLISH
X-WR-CALNAME:Octubre Centre de Cultura Contemporània
X-ORIGINAL-URL:https://octubre.cat
X-WR-CALDESC:Events for Octubre Centre de Cultura Contemporània
BEGIN:VTIMEZONE
TZID:Europe/Andorra
BEGIN:DAYLIGHT
TZOFFSETFROM:+0100
TZOFFSETTO:+0200
TZNAME:CEST
DTSTART:20100328T010000
END:DAYLIGHT
BEGIN:STANDARD
TZOFFSETFROM:+0200
TZOFFSETTO:+0100
TZNAME:CET
DTSTART:20101031T010000
END:STANDARD
END:VTIMEZONE
BEGIN:VEVENT
DTSTART;TZID=Europe/Andorra:20100303T193000
DTEND;TZID=Europe/Andorra:20100303T193000
DTSTAMP:20260421T062601
CREATED:20200729T164824Z
LAST-MODIFIED:20200729T182855Z
UID:8785-1267644600-1267644600@octubre.cat
SUMMARY:Migrar: un dret vulnerat
DESCRIPTION:Dimecres 3 de març\, a les 19.30h: “Migrar: un dret vulnerat”\, conferència a càrrec de Javier de Lucas (Universitat de València).   \n  \n  \n\nMigrar: un dret vulnerat  Conferència a càrrec de Javier de Lucas\, catedràtic de Filosofia del Dret de la Universitat de València i Director del Col·legi d’Espanya en París.   Presenta l’acte: Fabiola Meco\, coordinadora de la Fundació CEPS.   Organitza: Fundació CEPS.
URL:https://octubre.cat/activitat/migrar-un-dret-vulnerat/
LOCATION:No definit
CATEGORIES:Conferències i congressos
ATTACH;FMTTYPE=image/jpeg:https://octubre.cat/www/wp-content/uploads/2020/07/conferencia1.jpg
END:VEVENT
END:VCALENDAR