BEGIN:VCALENDAR
VERSION:2.0
PRODID:-//Octubre Centre de Cultura Contemporània - ECPv5.1.6//NONSGML v1.0//EN
CALSCALE:GREGORIAN
METHOD:PUBLISH
X-WR-CALNAME:Octubre Centre de Cultura Contemporània
X-ORIGINAL-URL:https://octubre.cat
X-WR-CALDESC:Events for Octubre Centre de Cultura Contemporània
BEGIN:VTIMEZONE
TZID:Europe/Andorra
BEGIN:DAYLIGHT
TZOFFSETFROM:+0100
TZOFFSETTO:+0200
TZNAME:CEST
DTSTART:20110327T010000
END:DAYLIGHT
BEGIN:STANDARD
TZOFFSETFROM:+0200
TZOFFSETTO:+0100
TZNAME:CET
DTSTART:20111030T010000
END:STANDARD
END:VTIMEZONE
BEGIN:VEVENT
DTSTART;TZID=Europe/Andorra:20111219T190000
DTEND;TZID=Europe/Andorra:20111221T000000
DTSTAMP:20260424T031610
CREATED:20200729T165646Z
LAST-MODIFIED:20200730T042919Z
UID:9308-1324321200-1324425600@octubre.cat
SUMMARY:Midnight in Paris
DESCRIPTION:19\, 20 i 21 de desembre a les 19h: projecció del film “Midnight in Paris” de Woody Allen (2011).  \n  \n  \n\nProjecció del film Midnight in Paris de Woody Allen (2011).  Organitzat per Acció Cultural del País Valencià amb la col·laboració del Servei de Política Lingüística de la Universitat de València (SPLUV)  Preu entrada –3 € –2 € socis d’ACPV –L’entrada serà gratuïta amb el carnet de la Universitat de València (més un acompanyant).  Podeu passar a recollir les entrades a partir d’una hora abans de la projecció.
URL:https://octubre.cat/activitat/midnight-in-paris/
LOCATION:No definit
CATEGORIES:Cinema
ATTACH;FMTTYPE=image/jpeg:https://octubre.cat/www/wp-content/uploads/2020/07/activitat1544.jpg
END:VEVENT
END:VCALENDAR