BEGIN:VCALENDAR
VERSION:2.0
PRODID:-//Octubre Centre de Cultura Contemporània - ECPv5.1.6//NONSGML v1.0//EN
CALSCALE:GREGORIAN
METHOD:PUBLISH
X-WR-CALNAME:Octubre Centre de Cultura Contemporània
X-ORIGINAL-URL:https://octubre.cat
X-WR-CALDESC:Events for Octubre Centre de Cultura Contemporània
BEGIN:VTIMEZONE
TZID:Europe/Andorra
BEGIN:DAYLIGHT
TZOFFSETFROM:+0100
TZOFFSETTO:+0200
TZNAME:CEST
DTSTART:20110327T010000
END:DAYLIGHT
BEGIN:STANDARD
TZOFFSETFROM:+0200
TZOFFSETTO:+0100
TZNAME:CET
DTSTART:20111030T010000
END:STANDARD
END:VTIMEZONE
BEGIN:VEVENT
DTSTART;TZID=Europe/Andorra:20110116T190000
DTEND;TZID=Europe/Andorra:20110116T190000
DTSTAMP:20260420T190331
CREATED:20200729T165336Z
LAST-MODIFIED:20200730T042659Z
UID:9115-1295204400-1295204400@octubre.cat
SUMMARY:Michel Gentile Trio
DESCRIPTION:Diumenge 16 de gener\, a les 19.00h: Michel Gentile Trio (NYC).   \n  \n  \n\nFlautista i compositor\, Michel Gentile és membre actiu de l’escena jazz de Nova York. Va estudiar al Conservatori de Música de Nova Anglaterra amb Jimmy Giuffre\, Dave Holland\, Geri Allen\, Mick Goodrick i George Garzone. Ha enregistrat o actuat al costat d’artistes com Joe Lovano\, Dave Liebman\, Fred Hersch\, Anthony Braxton\, Jane Ira Bloom o Joseph Jarman\, entre molts altres. És professor des de fa vora 25 anys\, tant en conservatoris com en classes privades\, tallers o lliçons magistrals. Ha compost música per a ràdio\, televisió i cinema i també ha treballat força per a altres àmbits\, com ara el teatre o la dansa.  Michel Gentile\, flauta Masa Kamaguchi\, contrabaix David Xirgu\, bateria
URL:https://octubre.cat/activitat/michel-gentile-trio/
LOCATION:No definit
CATEGORIES:Diumenges de Jazz!
ATTACH;FMTTYPE=image/jpeg:https://octubre.cat/www/wp-content/uploads/2020/07/activitat1347.jpg
END:VEVENT
END:VCALENDAR