BEGIN:VCALENDAR
VERSION:2.0
PRODID:-//Octubre Centre de Cultura Contemporània - ECPv5.1.6//NONSGML v1.0//EN
CALSCALE:GREGORIAN
METHOD:PUBLISH
X-WR-CALNAME:Octubre Centre de Cultura Contemporània
X-ORIGINAL-URL:https://octubre.cat
X-WR-CALDESC:Events for Octubre Centre de Cultura Contemporània
BEGIN:VTIMEZONE
TZID:Europe/Andorra
BEGIN:DAYLIGHT
TZOFFSETFROM:+0100
TZOFFSETTO:+0200
TZNAME:CEST
DTSTART:20170326T010000
END:DAYLIGHT
BEGIN:STANDARD
TZOFFSETFROM:+0200
TZOFFSETTO:+0100
TZNAME:CET
DTSTART:20171029T010000
END:STANDARD
END:VTIMEZONE
BEGIN:VEVENT
DTSTART;TZID=Europe/Andorra:20170222T190000
DTEND;TZID=Europe/Andorra:20170222T190000
DTSTAMP:20260420T195837
CREATED:20200729T172352Z
LAST-MODIFIED:20200729T185733Z
UID:10999-1487790000-1487790000@octubre.cat
SUMMARY:MICE: 'Ottaal'\, de Jayaraj
DESCRIPTION:Dimecres 22 de febrer a les 19.00h. Mostra Internacional de Cinema Educatiu (MICE). Projecció presentada per Antonio Lloréns. Entrada lliure.  \n  \n  \n\n Presentació a càrrec d’Antonio Lloréns.  Per primera vegada\, l’Octubre CCC col·labora amb la MICE (Mostra Internacional de Cinema Educatiu)\, que enguany celebra la seua cinquena edició a diverses localitats valencianes durant el mes de febrer del 2017.  La pel·lícula que projectarem és la producció índia Ottaal\, de Jayaraj Rajasekharan Nair\, la qual\, a més de guanyar diversos premis a festivals indis (tant a Kerala com a Bombai o Goa)\, també va ser premiada a la Berlinale 2016.  Aquesta pel·lícula explica la història d’un noi jove (Ashanth K Sha) i la seua relació amb el seu avi (Kumarakom Vasudevan)\, el seu únic parent viu al món. L’actor Kumarakom Vasudevan és un pescador a la vida real\, a qui el director Jayaraj va trobar durant la seua recerca d’actors per interpretar el paper. Ottaal és una adaptació de Vanka\, una de les obres intemporals d’Anton Txèkhov que ha viatjat pel temps i l’espai per ambientar-se en l’actualitat a un petit poble al sud de l’Índia.  Ottaal és una producció del cinema de Kerala o Mollywood\, que és el nom donat a la indústria cinematogràfica de l’Índia amb seu a Thiruvananthapuram. Aquestes pel·lícules es fan en llengua malaiàlam\, solen representar problemes socials o familiars i per tant són més realistes que les pel·lícules de Bollywood.  Direcció: Jayaraj Rajasekharan Nair (2015) V.O. en  malaiàlam i anglès subtitulada en català Guió: Joshy Mangalath (basada en l’obra Vanka d’Anton Txèkhov) Banda sonora: Kavalam Narayana Panicker Repartiment: Ashanth K Sha\, Kumarakom Vasavan\, Shine Tom Chacko\, Sabitha Jayaraj Producció: Director Cutz Film Company Ltd Durada: 81’  — Entrada lliure Organitzat per MICE (Mostra Internacional de Cinema Educatiu) amb la col·laboració d’Acció Cultural del País Valencià.
URL:https://octubre.cat/activitat/mice-ottaal-de-jayaraj/
LOCATION:Sala d’actes
CATEGORIES:Cinema
ATTACH;FMTTYPE=image/jpeg:https://octubre.cat/www/wp-content/uploads/2020/07/activitat2761.jpg
END:VEVENT
END:VCALENDAR