BEGIN:VCALENDAR
VERSION:2.0
PRODID:-//Octubre Centre de Cultura Contemporània - ECPv5.1.6//NONSGML v1.0//EN
CALSCALE:GREGORIAN
METHOD:PUBLISH
X-WR-CALNAME:Octubre Centre de Cultura Contemporània
X-ORIGINAL-URL:https://octubre.cat
X-WR-CALDESC:Events for Octubre Centre de Cultura Contemporània
BEGIN:VTIMEZONE
TZID:Europe/Andorra
BEGIN:DAYLIGHT
TZOFFSETFROM:+0100
TZOFFSETTO:+0200
TZNAME:CEST
DTSTART:20220327T010000
END:DAYLIGHT
BEGIN:STANDARD
TZOFFSETFROM:+0200
TZOFFSETTO:+0100
TZNAME:CET
DTSTART:20221030T010000
END:STANDARD
END:VTIMEZONE
BEGIN:VEVENT
DTSTART;TZID=Europe/Andorra:20221002T100000
DTEND;TZID=Europe/Andorra:20221002T200000
DTSTAMP:20260420T175836
CREATED:20220926T081631Z
LAST-MODIFIED:20221002T075549Z
UID:18783-1664704800-1664740800@octubre.cat
SUMMARY:MICE 2022: Projeccions amb jurats
DESCRIPTION:Mostra Internacional de Cinema Educatiu 2022\nProjeccions amb jurats en sala\, obertes al públic \n10.00h a 12.00h. MICE Internacional: Ficció \n12.00h a 14.00h. MICE Internacional Animació \n16.00h a 18.00h. MICE València Book Tràiler \n—\nOrganitzat per Mostra Internacional de Cinema Educatiu (MICE) amb la col·laboració d’Acció Cultural del País Valencià
URL:https://octubre.cat/activitat/mice-2022-projeccions-amb-jurats/
LOCATION:Sala d’actes
CATEGORIES:MICE 2022
ATTACH;FMTTYPE=image/jpeg:https://octubre.cat/www/wp-content/uploads/2022/09/mice-2022-cap.jpg
END:VEVENT
END:VCALENDAR