BEGIN:VCALENDAR
VERSION:2.0
PRODID:-//Octubre Centre de Cultura Contemporània - ECPv5.1.6//NONSGML v1.0//EN
CALSCALE:GREGORIAN
METHOD:PUBLISH
X-WR-CALNAME:Octubre Centre de Cultura Contemporània
X-ORIGINAL-URL:https://octubre.cat
X-WR-CALDESC:Events for Octubre Centre de Cultura Contemporània
BEGIN:VTIMEZONE
TZID:Europe/Andorra
BEGIN:DAYLIGHT
TZOFFSETFROM:+0100
TZOFFSETTO:+0200
TZNAME:CEST
DTSTART:20220327T010000
END:DAYLIGHT
BEGIN:STANDARD
TZOFFSETFROM:+0200
TZOFFSETTO:+0100
TZNAME:CET
DTSTART:20221030T010000
END:STANDARD
END:VTIMEZONE
BEGIN:VEVENT
DTSTART;TZID=Europe/Andorra:20221004T183000
DTEND;TZID=Europe/Andorra:20221004T183000
DTSTAMP:20260421T210725
CREATED:20220919T161101Z
LAST-MODIFIED:20220919T161101Z
UID:18767-1664908200-1664908200@octubre.cat
SUMMARY:MICE 2022: La sorra del Sàhara arriba a València
DESCRIPTION:Mostra Internacional de Cinema Educatiu 2022 \n18.30h. Presentació de la 1a MICE Sàhara \n19.00h. Lliurament del premi MICE al Ministeri de Cultura de la RASD per la tasca que desenvolupa en l’àmbit cinematogràfic. \n19.15h. Projecció del documental Un viaje hacia nosotros dirigit per Luis Cintora amb guió de Luis Cintora i Pepe Viyuela. \n20.30h.Taula rodona amb\n—Sultana Khaya: activista sahrauí símbol de la resistència enfront de la repressió marroquina en els territoris ocupats.\n—Pepe Viyuela: actor\, guionista i activista pels Drets Humans.\n–Representant de la RASD a València. \n  \n \n  \nUn viaje hacia nosotros\, de Luis Cintora \nEl documental narra un viatge que comença en la memòria familiar de l’actor Pepe Viyuela\, quan emprèn una investigació seguint el rastre del seu avi Gervasio\, integrant de l’exèrcit republicà durant la guerra civil espanyola. Un viatge que el condueix al seu passat i que acaba per situar-lo d’una manera renovada davant el present \nDirecció: Luis Cintora (2021)\nRepartiment: Camila Viyuela\, Pepe Viyuela\nProducció: AV2Media Films\nDurada: 70’ \n—\nOrganitzat per Mostra Internacional de Cinema Educatiu (MICE) amb la col·laboració d’Acció Cultural del País Valencià
URL:https://octubre.cat/activitat/mice-2022-la-sorra-del-sahara-arriba-a-valencia/
LOCATION:Sala d’actes
CATEGORIES:MICE 2022
ATTACH;FMTTYPE=image/jpeg:https://octubre.cat/www/wp-content/uploads/2022/09/mice-2022-cap.jpg
END:VEVENT
END:VCALENDAR