BEGIN:VCALENDAR
VERSION:2.0
PRODID:-//Octubre Centre de Cultura Contemporània - ECPv5.1.6//NONSGML v1.0//EN
CALSCALE:GREGORIAN
METHOD:PUBLISH
X-WR-CALNAME:Octubre Centre de Cultura Contemporània
X-ORIGINAL-URL:https://octubre.cat
X-WR-CALDESC:Events for Octubre Centre de Cultura Contemporània
BEGIN:VTIMEZONE
TZID:Europe/Andorra
BEGIN:DAYLIGHT
TZOFFSETFROM:+0100
TZOFFSETTO:+0200
TZNAME:CEST
DTSTART:20220327T010000
END:DAYLIGHT
BEGIN:STANDARD
TZOFFSETFROM:+0200
TZOFFSETTO:+0100
TZNAME:CET
DTSTART:20221030T010000
END:STANDARD
END:VTIMEZONE
BEGIN:VEVENT
DTSTART;TZID=Europe/Andorra:20221003T190000
DTEND;TZID=Europe/Andorra:20221003T190000
DTSTAMP:20260421T223428
CREATED:20220919T155112Z
LAST-MODIFIED:20220919T155112Z
UID:18763-1664823600-1664823600@octubre.cat
SUMMARY:MICE 2022: Any Berlanga + 1
DESCRIPTION:Mostra Internacional de Cinema Educatiu 2022 \nProjecció del llargmetratge Berlanga!!\, de Rafael Maluenda. \nLlargmetratge que recrea la trajectòria professional i personal del cineasta Luis García Berlanga mitjançant testimonis\, imatges d’arxiu\, fotografies i postproducció. Una pel·lícula escrita i dirigida per Rafael Maluenda\, amic íntim del director i qui va col·laborar en les tres últimes pel·lícules\, i recolzada per la família García-Berlanga. \n  \n \n  \nDirecció: Rafael Maluenda (2021)\nRepartiment: Alexander Payne\, Fernando Trueba\, Gonzalo Suárez\, Gracia Querejeta\, Enrique Urbizu\, Santiago Segura\, Jaime Chávarri\, Borja Cobeaga\, Miguel Albaladejo\, Paco Plaza\, Daniel Monzón\, Enrique Cerezo\,\nProducció: La Nit Produccions\nDurada: 93’ \n—\nOrganitzat per Mostra Internacional de Cinema Educatiu (MICE) amb la col·laboració d’Acció Cultural del País Valencià
URL:https://octubre.cat/activitat/mice-2022-any-berlanga-1/
LOCATION:Sala d’actes
CATEGORIES:MICE 2022
ATTACH;FMTTYPE=image/jpeg:https://octubre.cat/www/wp-content/uploads/2022/09/mice-2022-cap.jpg
END:VEVENT
END:VCALENDAR