BEGIN:VCALENDAR
VERSION:2.0
PRODID:-//Octubre Centre de Cultura Contemporània - ECPv5.1.6//NONSGML v1.0//EN
CALSCALE:GREGORIAN
METHOD:PUBLISH
X-WR-CALNAME:Octubre Centre de Cultura Contemporània
X-ORIGINAL-URL:https://octubre.cat
X-WR-CALDESC:Events for Octubre Centre de Cultura Contemporània
BEGIN:VTIMEZONE
TZID:Europe/Andorra
BEGIN:DAYLIGHT
TZOFFSETFROM:+0100
TZOFFSETTO:+0200
TZNAME:CEST
DTSTART:20180325T010000
END:DAYLIGHT
BEGIN:STANDARD
TZOFFSETFROM:+0200
TZOFFSETTO:+0100
TZNAME:CET
DTSTART:20181028T010000
END:STANDARD
END:VTIMEZONE
BEGIN:VEVENT
DTSTART;TZID=Europe/Andorra:20180206T183000
DTEND;TZID=Europe/Andorra:20180206T183000
DTSTAMP:20260420T142132
CREATED:20200729T190249Z
LAST-MODIFIED:20200729T190249Z
UID:13317-1517941800-1517941800@octubre.cat
SUMMARY:'Mi valle'\, de Mario Santos i Lores Espinosa
DESCRIPTION:Dimarts 6 de febrer a les 18.30h. Projecció inclosa dins el cicle de cinema sobre Defensa del Territori organitzat per la plataforma “Horta és futur. NO a la ZAL del Port a la Punta” amb la col·laboració d’Acció Cultural del País Valencià. Entrada lliure.  \n  \n  \n\n Projecció presentada pel co-director Mario Santos.  Dos germans que van passar la seua joventut en l’antic Riaño ens traslladen a aquells durs i difícils anys. Temps en els quals es van veure obligats a abandonar les seues llars i un meravellós paratge que acabarà per ser destruït per les aigües que fins avui l’inunden. Mi valle ens trasllada a tots aqueixos inoblidables records d’una delicada i emotiva forma comptant amb testimonis\, imatges del moment i de l’actual estat de la zona.  Directors: Mario Santos i Lores Espinosa (2016) Producció: Waves Films Durada: 73’  (més informació)  — Projecció inclosa en el cicle de cinema sobre defensa del territori organitzat per la plataforma Horta és futur. NO a la ZAL del Port a la Punta amb la col·laboració d’Acció Cultural del País Valencià.
URL:https://octubre.cat/activitat/mi-valle-de-mario-santos-i-lores-espinosa/
LOCATION:Sala d’actes
CATEGORIES:Cicle Documental en Defensa del Territori
ATTACH;FMTTYPE=image/jpeg:https://octubre.cat/www/wp-content/uploads/2020/07/activitat2957.jpg
END:VEVENT
END:VCALENDAR