BEGIN:VCALENDAR
VERSION:2.0
PRODID:-//Octubre Centre de Cultura Contemporània - ECPv5.1.6//NONSGML v1.0//EN
CALSCALE:GREGORIAN
METHOD:PUBLISH
X-WR-CALNAME:Octubre Centre de Cultura Contemporània
X-ORIGINAL-URL:https://octubre.cat
X-WR-CALDESC:Events for Octubre Centre de Cultura Contemporània
BEGIN:VTIMEZONE
TZID:Europe/Andorra
BEGIN:DAYLIGHT
TZOFFSETFROM:+0100
TZOFFSETTO:+0200
TZNAME:CEST
DTSTART:20130331T010000
END:DAYLIGHT
BEGIN:STANDARD
TZOFFSETFROM:+0200
TZOFFSETTO:+0100
TZNAME:CET
DTSTART:20131027T010000
END:STANDARD
END:VTIMEZONE
BEGIN:VEVENT
DTSTART;TZID=Europe/Andorra:20130520T000000
DTEND;TZID=Europe/Andorra:20130621T000000
DTSTAMP:20260422T042351
CREATED:20200729T170017Z
LAST-MODIFIED:20200830T164524Z
UID:9519-1369008000-1371772800@octubre.cat
SUMMARY:Metges sense fronteres: 40 anys d'ajuda humanitària
DESCRIPTION:Exposició que recorre els quaranta anys d’història de Metges Sense Fronteres \nExposició organitzada per Metges Sense Fronteres \nDesembre de 1971. Un grup de metges i periodistes s’uneixen per defensar una acció mèdica d’emergència independent de tot interès polític i econòmic. Naix Metges Sense Fronteres (MSF). 40 anys després\, aquesta mostra fotogràfica rememora el naixement\, evolució i moments més destacats de l’organització. L’ONG fa repàs de la seua història a través de 30 fotografies que recullen alguns dels principals contextos en què l’entitat ha intervingut en les últimes quatre dècades\, tot prestant assistència a poblacions en situació precària i víctimes de conflictes armats\, desplaçaments forçats\, malalties endèmiques i epidèmiques\, catàstrofes naturals\, violència social i exclusió de l’atenció sanitària\, en els cinc continents. \nAixí\, la mostra obre una finestra als conflictes d’Afganistan\, Líban\, Territoris Palestins\, l’Iraq\, Colòmbia\, Bòsnia\, Txetxènia\, Somàlia\, Darfur o República Democràtica del Congo\, entre uns altres\, com també al genocidi de Rwanda\, les fams d’Etiòpia i Angola\, el terratrèmol i posterior epidèmia de còlera d’Haití\, l’huracà Mitch a Centreamèrica\, el tsunami del sud-est asiàtic\, i a crisis relacionades amb pandèmies\, malalties oblidades com el VIH/sida. \nDe totes aquestes crisis van ser testimoni prestigiosos fotògrafs com Sebastião Salgado\, Juan Carlos Tomasi\, Bruno Stevens\, Bruno Barbey\, Olivier Jobard\, Roger Job\, Eric Bouvet i John Stanmeyer\, o agències com ara Gamma\, Magnum\, Cosmos\, Moment\, Sipa Press i VII\, que van contribuir amb el seu treball a lluitar contra l’oblit polític i mediàtic que porta dècades cobrant-se un alt preu en vides humanes i sofriment a tot el món.
URL:https://octubre.cat/activitat/metges-sense-fronteres-40-anys-dajuda-humanitaria/
LOCATION:Hall
CATEGORIES:Exposicions
ATTACH;FMTTYPE=image/jpeg:https://octubre.cat/www/wp-content/uploads/2020/07/activitat1774.jpg
END:VEVENT
END:VCALENDAR