BEGIN:VCALENDAR
VERSION:2.0
PRODID:-//Octubre Centre de Cultura Contemporània - ECPv5.1.6//NONSGML v1.0//EN
CALSCALE:GREGORIAN
METHOD:PUBLISH
X-WR-CALNAME:Octubre Centre de Cultura Contemporània
X-ORIGINAL-URL:https://octubre.cat
X-WR-CALDESC:Events for Octubre Centre de Cultura Contemporània
BEGIN:VTIMEZONE
TZID:Europe/Andorra
BEGIN:DAYLIGHT
TZOFFSETFROM:+0100
TZOFFSETTO:+0200
TZNAME:CEST
DTSTART:20190331T010000
END:DAYLIGHT
BEGIN:STANDARD
TZOFFSETFROM:+0200
TZOFFSETTO:+0100
TZNAME:CET
DTSTART:20191027T010000
END:STANDARD
END:VTIMEZONE
BEGIN:VEVENT
DTSTART;TZID=Europe/Andorra:20190619T190000
DTEND;TZID=Europe/Andorra:20190619T190000
DTSTAMP:20260421T132512
CREATED:20200729T173416Z
LAST-MODIFIED:20200729T191147Z
UID:11447-1560970800-1560970800@octubre.cat
SUMMARY:"M’esperaràs?"\, de Carles Alberola
DESCRIPTION:Dimecres 19 de juny a les 19.00h. Cicle de cinema valencià. Projecció presentada pel director\, Carles Alberola\, pel productor Toni Benavent i pels actors Cristina García i Alfred Picó.	 \n  \n  \n\n 	 Presentada pel director\, Carles Alberola\, pel productor Toni Benavent i pels actors Cristina García i Alfred Picó.  Una nit. Un sopar a l’apartament de Rubén\, un separat al qual els seus millors amics\, el matrimoni format per Jaume i Raquel\, han buscat algú amb el propòsit que Rubén tinga una cita a cegues i deixe de queixar-se de la mala sort que sempre ha tingut amb les dones.  Direcció: Carles Alberola (2017) Guió: Carles Alberola (sobre l’obra de teatre homònima) Música: Arnau Bataller Fotografia: Víctor Entrecanales Repartiment: Carles Alberola\, Cristina García\, Alfred Picó\, Rebeca Valls Productora: Albena Produccions  — Cicle de cinema valencià Coordinació del cicle: Antonio Lloréns Entrada lliure
URL:https://octubre.cat/activitat/mesperaras-de-carles-alberola/
LOCATION:Sala d’actes
CATEGORIES:Cinema
ATTACH;FMTTYPE=image/jpeg:https://octubre.cat/www/wp-content/uploads/2020/07/activitat3292.jpg
END:VEVENT
END:VCALENDAR