BEGIN:VCALENDAR
VERSION:2.0
PRODID:-//Octubre Centre de Cultura Contemporània - ECPv5.1.6//NONSGML v1.0//EN
CALSCALE:GREGORIAN
METHOD:PUBLISH
X-WR-CALNAME:Octubre Centre de Cultura Contemporània
X-ORIGINAL-URL:https://octubre.cat
X-WR-CALDESC:Events for Octubre Centre de Cultura Contemporània
BEGIN:VTIMEZONE
TZID:Europe/Andorra
BEGIN:DAYLIGHT
TZOFFSETFROM:+0100
TZOFFSETTO:+0200
TZNAME:CEST
DTSTART:20170326T010000
END:DAYLIGHT
BEGIN:STANDARD
TZOFFSETFROM:+0200
TZOFFSETTO:+0100
TZNAME:CET
DTSTART:20171029T010000
END:STANDARD
END:VTIMEZONE
BEGIN:VEVENT
DTSTART;TZID=Europe/Andorra:20170509T193000
DTEND;TZID=Europe/Andorra:20170509T193000
DTSTAMP:20260421T084952
CREATED:20200729T172539Z
LAST-MODIFIED:20200729T185817Z
UID:11117-1494358200-1494358200@octubre.cat
SUMMARY:Mescla: Tatsuru Arai + AttA
DESCRIPTION:Dimarts 9 de maig a les 19.30h.  \n  \n  \n\n Mescla és una sessió de bogeria sonora i visual\, projectes fora de totes les convencions.  Tatsuru Arai “Arkhitek-ton” from Hyper Serial Music // Sound-Visual performance  AttA Avelino Saavedra // Drumms and electronics Martí Guillem // Electronics and objects
URL:https://octubre.cat/activitat/mescla-tatsuru-arai-atta/
CATEGORIES:Música
ATTACH;FMTTYPE=image/jpeg:https://octubre.cat/www/wp-content/uploads/2020/07/activitat2818.jpg
END:VEVENT
END:VCALENDAR