BEGIN:VCALENDAR
VERSION:2.0
PRODID:-//Octubre Centre de Cultura Contemporània - ECPv5.1.6//NONSGML v1.0//EN
CALSCALE:GREGORIAN
METHOD:PUBLISH
X-WR-CALNAME:Octubre Centre de Cultura Contemporània
X-ORIGINAL-URL:https://octubre.cat
X-WR-CALDESC:Events for Octubre Centre de Cultura Contemporània
BEGIN:VTIMEZONE
TZID:Europe/Andorra
BEGIN:DAYLIGHT
TZOFFSETFROM:+0100
TZOFFSETTO:+0200
TZNAME:CEST
DTSTART:20070325T010000
END:DAYLIGHT
BEGIN:STANDARD
TZOFFSETFROM:+0200
TZOFFSETTO:+0100
TZNAME:CET
DTSTART:20071028T010000
END:STANDARD
END:VTIMEZONE
BEGIN:VEVENT
DTSTART;TZID=Europe/Andorra:20071113T193000
DTEND;TZID=Europe/Andorra:20071113T193000
DTSTAMP:20260420T204047
CREATED:20200729T181536Z
LAST-MODIFIED:20200730T035506Z
UID:12385-1194982200-1194982200@octubre.cat
SUMMARY:Mercat Central\, 1.000 anys d'història
DESCRIPTION:De Ricardo Macián  És la història del Mercat Central de València\, hui la major superfície d’Europa dedicada a productes frescos. Tot i que l’edifici és de principis del segle XX la plaça del mercat ha estat durant un mil.leni el fòrum de la ciutat de València i al seu voltant s’han construït els edificis públics més importants. Aquest documental ens guia pel seu llarg recorregut.                                                 FITXA TÈCNICA:  direcció: Ricardo Macián guió: Lola Bañón
URL:https://octubre.cat/activitat/mercat-central-1-000-anys-dhistoria/
LOCATION:No definit
CATEGORIES:Cicle de Documentals
ATTACH;FMTTYPE=image/jpeg:https://octubre.cat/www/wp-content/uploads/2020/07/activitat361.jpg
END:VEVENT
END:VCALENDAR