BEGIN:VCALENDAR
VERSION:2.0
PRODID:-//Octubre Centre de Cultura Contemporània - ECPv5.1.6//NONSGML v1.0//EN
CALSCALE:GREGORIAN
METHOD:PUBLISH
X-WR-CALNAME:Octubre Centre de Cultura Contemporània
X-ORIGINAL-URL:https://octubre.cat
X-WR-CALDESC:Events for Octubre Centre de Cultura Contemporània
BEGIN:VTIMEZONE
TZID:Europe/Andorra
BEGIN:DAYLIGHT
TZOFFSETFROM:+0100
TZOFFSETTO:+0200
TZNAME:CEST
DTSTART:20140330T010000
END:DAYLIGHT
BEGIN:STANDARD
TZOFFSETFROM:+0200
TZOFFSETTO:+0100
TZNAME:CET
DTSTART:20141026T010000
END:STANDARD
END:VTIMEZONE
BEGIN:VEVENT
DTSTART;TZID=Europe/Andorra:20140214T000000
DTEND;TZID=Europe/Andorra:20140319T000000
DTSTAMP:20260425T222454
CREATED:20200729T170336Z
LAST-MODIFIED:20200831T152528Z
UID:9705-1392336000-1395187200@octubre.cat
SUMMARY:'Mequinensa!'\, de Jesús Moncada
DESCRIPTION:Exposició de les fotografies que l’autor de Camí de sirga va fer del seu poble a la Franja de Ponent abans que desapareguera sota el pantà de Riba-roja. Amb la col·laboració del Museu Etnològic de Barcelona. \nProrrogada fins el 19 de març \nInauguració: divendres 14 de febrer a les 19.00h\, amb la presència de Rosa Maria Moncada (germana de l’escriptor) i de Júlia Pérez (Museu Etnològic de Barcelona). \nUna selecció de fotografies realitzades per Jesús Moncada del seu poble\, Mequinensa\, abans que desaparegués sota les aigües del pantà de Riba-roja\, veuen la llum en una exposició planejada per la seua germana\, Rosa Maria Moncada\, i per l’amic de la família i director del Museu Etnològic de Barcelona Pep Fornés. Una mostra que confirma la mirada sensible de l’autor de Camí de Sirga sobre la història d’un poble\, d’una cultura\, d’un país. \nIdea i producció: Museu Etnològic de Barcelona\nTextos i fotografies: Jesús Moncada\nComissariat: Rosa Maria Moncada i Josep Fornés\nDisseny de l’exposició: Fons Gràfic\nAmb la col·laboració de l’Ajuntament de Mequinensa i de l’IPEC
URL:https://octubre.cat/activitat/mequinensa-de-jesus-moncada/
LOCATION:Sala d’exposicions
CATEGORIES:Exposicions
ATTACH;FMTTYPE=image/jpeg:https://octubre.cat/www/wp-content/uploads/2020/07/activitat1997.jpg
END:VEVENT
END:VCALENDAR