BEGIN:VCALENDAR
VERSION:2.0
PRODID:-//Octubre Centre de Cultura Contemporània - ECPv5.1.6//NONSGML v1.0//EN
CALSCALE:GREGORIAN
METHOD:PUBLISH
X-WR-CALNAME:Octubre Centre de Cultura Contemporània
X-ORIGINAL-URL:https://octubre.cat
X-WR-CALDESC:Events for Octubre Centre de Cultura Contemporània
BEGIN:VTIMEZONE
TZID:Europe/Andorra
BEGIN:DAYLIGHT
TZOFFSETFROM:+0100
TZOFFSETTO:+0200
TZNAME:CEST
DTSTART:20140330T010000
END:DAYLIGHT
BEGIN:STANDARD
TZOFFSETFROM:+0200
TZOFFSETTO:+0100
TZNAME:CET
DTSTART:20141026T010000
END:STANDARD
END:VTIMEZONE
BEGIN:VEVENT
DTSTART;TZID=Europe/Andorra:20140529T190000
DTEND;TZID=Europe/Andorra:20140529T190000
DTSTAMP:20260423T134024
CREATED:20200729T170441Z
LAST-MODIFIED:20200730T041126Z
UID:9768-1401390000-1401390000@octubre.cat
SUMMARY:Memòries d'una altra dimensió
DESCRIPTION:Dijous 29 de maig a les 19.00h. Alícia Bisier i la companyia AYK presenten un viatge al coneixement interior.  \n  \n  \n\n “En el llarg viatge cap al coneixement interior\, la saviesa profunda teixeix xarxes amb la poesia. S’erotitzen juntes sense pudor i dansen a la teua vora.”  Companyia: AYK Dramatúrgia\, interpretació i vestuari: ALÍCIA BISIER Direcció: KONXA BERMESELA Videoartistes: MADAME CORNUCOPIA  Entrada: 5€
URL:https://octubre.cat/activitat/memories-duna-altra-dimensio/
LOCATION:Sala d’actes
CATEGORIES:Teatre
ATTACH;FMTTYPE=image/jpeg:https://octubre.cat/www/wp-content/uploads/2020/07/activitat2066.jpg
END:VEVENT
END:VCALENDAR