BEGIN:VCALENDAR
VERSION:2.0
PRODID:-//Octubre Centre de Cultura Contemporània - ECPv5.1.6//NONSGML v1.0//EN
CALSCALE:GREGORIAN
METHOD:PUBLISH
X-WR-CALNAME:Octubre Centre de Cultura Contemporània
X-ORIGINAL-URL:https://octubre.cat
X-WR-CALDESC:Events for Octubre Centre de Cultura Contemporània
BEGIN:VTIMEZONE
TZID:Europe/Andorra
BEGIN:DAYLIGHT
TZOFFSETFROM:+0100
TZOFFSETTO:+0200
TZNAME:CEST
DTSTART:20080330T010000
END:DAYLIGHT
BEGIN:STANDARD
TZOFFSETFROM:+0200
TZOFFSETTO:+0100
TZNAME:CET
DTSTART:20081026T010000
END:STANDARD
END:VTIMEZONE
BEGIN:VEVENT
DTSTART;TZID=Europe/Andorra:20080205T193000
DTEND;TZID=Europe/Andorra:20080205T193000
DTSTAMP:20260420T175515
CREATED:20200729T181721Z
LAST-MODIFIED:20200730T035624Z
UID:12483-1202239800-1202239800@octubre.cat
SUMMARY:Memòries dels Tossals\, de Pau Pascual
DESCRIPTION:La crònica sentimental d’una fàbrica tèxtil d’Alcoi (Filatures Tossals) que va tancar el 2005. Una història de quan es treballava sempre al mateix lloc\, i la vida i la feina creixien entrellaçades.  Fitxa tècnica:  Direcció: Pau Pascual Producció: Marta Castanyé. Paral.lel 40 càmera: Raül Cuevas Muntatge: Gerard Ribas any: 2007
URL:https://octubre.cat/activitat/memories-dels-tossals-de-pau-pascual/
LOCATION:No definit
CATEGORIES:Cicle de Documentals
ATTACH;FMTTYPE=image/jpeg:https://octubre.cat/www/wp-content/uploads/2020/07/cinema1.jpg
END:VEVENT
END:VCALENDAR