BEGIN:VCALENDAR
VERSION:2.0
PRODID:-//Octubre Centre de Cultura Contemporània - ECPv5.1.6//NONSGML v1.0//EN
CALSCALE:GREGORIAN
METHOD:PUBLISH
X-WR-CALNAME:Octubre Centre de Cultura Contemporània
X-ORIGINAL-URL:https://octubre.cat
X-WR-CALDESC:Events for Octubre Centre de Cultura Contemporània
BEGIN:VTIMEZONE
TZID:Europe/Andorra
BEGIN:DAYLIGHT
TZOFFSETFROM:+0100
TZOFFSETTO:+0200
TZNAME:CEST
DTSTART:20160327T010000
END:DAYLIGHT
BEGIN:STANDARD
TZOFFSETFROM:+0200
TZOFFSETTO:+0100
TZNAME:CET
DTSTART:20161030T010000
END:STANDARD
END:VTIMEZONE
BEGIN:VEVENT
DTSTART;TZID=Europe/Andorra:20160506T183000
DTEND;TZID=Europe/Andorra:20160506T183000
DTSTAMP:20260421T170808
CREATED:20200729T171846Z
LAST-MODIFIED:20200729T185515Z
UID:10673-1462559400-1462559400@octubre.cat
SUMMARY:'Memòria viva de l’anarcosindicalisme'\, per Martín Arnal
DESCRIPTION:Divendres 6 de maig a les 18.30h. Xerrada de l’històric anarcosindicalista organitzada per CNT-València.  \n  \n  \n\n Martín Arnal és memòria viva de l’anarcosindicalisme. Va participar a les col·lectivitats de l’Alto Aragón en temps de la II República i durant la Guerra\, a més de participar en el conflicte\, on va tindre que cobrir la retirada republicana fins a creuar la frontera francesa. Durant la Segona Guerra Mundial va participar al maquis francès i\, finalitzat aquest conflicte\, va participar a la guerrilla espanyola.  Organitzat per CNT-València.
URL:https://octubre.cat/activitat/memoria-viva-de-lanarcosindicalisme-per-martin-arnal/
LOCATION:Sala d’actes
CATEGORIES:Conferències i congressos
ATTACH;FMTTYPE=image/png:https://octubre.cat/www/wp-content/uploads/2020/07/activitat2586.png
END:VEVENT
END:VCALENDAR