BEGIN:VCALENDAR
VERSION:2.0
PRODID:-//Octubre Centre de Cultura Contemporània - ECPv5.1.6//NONSGML v1.0//EN
CALSCALE:GREGORIAN
METHOD:PUBLISH
X-WR-CALNAME:Octubre Centre de Cultura Contemporània
X-ORIGINAL-URL:https://octubre.cat
X-WR-CALDESC:Events for Octubre Centre de Cultura Contemporània
BEGIN:VTIMEZONE
TZID:Europe/Andorra
BEGIN:DAYLIGHT
TZOFFSETFROM:+0100
TZOFFSETTO:+0200
TZNAME:CEST
DTSTART:20160327T010000
END:DAYLIGHT
BEGIN:STANDARD
TZOFFSETFROM:+0200
TZOFFSETTO:+0100
TZNAME:CET
DTSTART:20161030T010000
END:STANDARD
END:VTIMEZONE
BEGIN:VEVENT
DTSTART;TZID=Europe/Andorra:20161006T000000
DTEND;TZID=Europe/Andorra:20161026T000000
DTSTAMP:20260425T192059
CREATED:20200729T172100Z
LAST-MODIFIED:20200903T171742Z
UID:10817-1475712000-1477440000@octubre.cat
SUMMARY:'Mediterrani'
DESCRIPTION:Exposició de fotografies de Virginia Jareño\, Francesco Zangari\, Mukhtar Ahmed\, Ali Shahzad i Nacho Errando. Inclosa en la programació de Mostra Viva del Mediterrani 2016. \nInauguració: dijous 6 d’octubre a les 20.00h. \nL’exposició Mediterrani té la intenció de parlar sobre una identitat comuna\, una forma de mirar\, de menjar\, de sentir. Una manera de viure. Sorgeix amb l’ànim de reivindicar les coses que ens uneixen\, que ens fan ser qui som\, oblidant països i burocràcies. Denunciant l’estupidesa d’alguns Estats\, les males gestions i les seues respectives conseqüències. El projecte està format per les fotografies de Virginia Jareño (València\, 1994)\, Francesco Zangari (Bolonya\, 1986)\, Mukhtar Ahmed (Pakistan\, 1962)\, Ali Shahzad (Iran\, 1996) i Nacho Errando (València\, 1993)\, coordinador del projecte. \nLes fotografies relaten situacions del dia a dia a diversos països de la Mediterrània (personatges\, colors\, ràbia\, bellesa) amb la idea de fondre totes les imatges en un únic i gran paisatge. Un únic relat que travessa Portugal\, Espanya\, Itàlia\, Grècia\, Turquia i el Marroc\, sempre mantenint amb a teló de fons el nostre mar. \nCoordinador del projecte: Nacho Errando\nCoordinadora d’Art de Mostra Viva: Maite Ibáñez \nOrganitzat per Mostra Viva del Mediterrani amb la col·laboració de l’Octubre CCC
URL:https://octubre.cat/activitat/mediterrani/
LOCATION:Sala d’exposicions
CATEGORIES:Exposicions
ATTACH;FMTTYPE=image/jpeg:https://octubre.cat/www/wp-content/uploads/2020/07/activitat2666.jpg
END:VEVENT
END:VCALENDAR