BEGIN:VCALENDAR
VERSION:2.0
PRODID:-//Octubre Centre de Cultura Contemporània - ECPv5.1.6//NONSGML v1.0//EN
CALSCALE:GREGORIAN
METHOD:PUBLISH
X-WR-CALNAME:Octubre Centre de Cultura Contemporània
X-ORIGINAL-URL:https://octubre.cat
X-WR-CALDESC:Events for Octubre Centre de Cultura Contemporània
BEGIN:VTIMEZONE
TZID:Europe/Andorra
BEGIN:DAYLIGHT
TZOFFSETFROM:+0100
TZOFFSETTO:+0200
TZNAME:CEST
DTSTART:20180325T010000
END:DAYLIGHT
BEGIN:STANDARD
TZOFFSETFROM:+0200
TZOFFSETTO:+0100
TZNAME:CET
DTSTART:20181028T010000
END:STANDARD
END:VTIMEZONE
BEGIN:VEVENT
DTSTART;TZID=Europe/Andorra:20181004T000000
DTEND;TZID=Europe/Andorra:20181028T000000
DTSTAMP:20260420T152742
CREATED:20200729T173132Z
LAST-MODIFIED:20200905T142901Z
UID:11274-1538611200-1540684800@octubre.cat
SUMMARY:Mediterrani de talents i desitjos
DESCRIPTION:Mostra dels treballs dels artistes de la residència de creació Jiwar (Barcelona) \nInauguració: dijous 4 d’octubre a les 19.00h. \nLes obres que veureu en aquesta mostra i els seus contextos de creació marquen profundament la nostra identitat. El Mediterrani convuls ens agermana amb els artistes que seleccionem en aquest projecte col·lectiu. La vida de Fatima\, Elif\, Farah\, Mehdi\, Yassine\, Amado Alfadni\, Elif Gülen… batega intensament entre talents i somnis. Per aquesta raó naix l’aposta de l’ONGD Jiwar d’acollir i facilitar un espai als i les artistes i conèixer d’una altra manera la complexitat d’unes societats tan properes però a la vegada tan estereotipades i reduïdes a mers tòpics vehiculats pels mitjans de comunicació. \nExposició inclosa dins les activitats de Mostra Viva del Mediterrani 2018\nComissariada per Mireia Estrada\nUna producció de Jiwar – Barcelona.
URL:https://octubre.cat/activitat/mediterrani-de-talents-i-desitjos/
LOCATION:Sala d’exposicions
CATEGORIES:Exposicions
ATTACH;FMTTYPE=image/jpeg:https://octubre.cat/www/wp-content/uploads/2020/07/activitat3112.jpg
END:VEVENT
END:VCALENDAR