BEGIN:VCALENDAR
VERSION:2.0
PRODID:-//Octubre Centre de Cultura Contemporània - ECPv5.1.6//NONSGML v1.0//EN
CALSCALE:GREGORIAN
METHOD:PUBLISH
X-WR-CALNAME:Octubre Centre de Cultura Contemporània
X-ORIGINAL-URL:https://octubre.cat
X-WR-CALDESC:Events for Octubre Centre de Cultura Contemporània
BEGIN:VTIMEZONE
TZID:Europe/Andorra
BEGIN:DAYLIGHT
TZOFFSETFROM:+0100
TZOFFSETTO:+0200
TZNAME:CEST
DTSTART:20120325T010000
END:DAYLIGHT
BEGIN:STANDARD
TZOFFSETFROM:+0200
TZOFFSETTO:+0100
TZNAME:CET
DTSTART:20121028T010000
END:STANDARD
END:VTIMEZONE
BEGIN:VEVENT
DTSTART;TZID=Europe/Andorra:20120128T090000
DTEND;TZID=Europe/Andorra:20120128T090000
DTSTAMP:20260421T180832
CREATED:20200729T165701Z
LAST-MODIFIED:20200730T042931Z
UID:9323-1327741200-1327741200@octubre.cat
SUMMARY:Matinal 'Què fem amb la llengua a l'ensenyament?'
DESCRIPTION:Dissabte 28 de gener\, de 9.00h a 14.00h. Matinal “Què fem amb la llengua en l’ensenyament?”. Jornada d’actualització científica per a professorat de secundària i batxiller. Inscripció oberta  \n  \n  \n\nEines per a la seguretat i l’assertivitat en la docència de matèries en valencià  Jornada d’actualització científica per a professorat de secundària i batxillerat   PROGRAMA  09.00h. Recollida de la documentació  09.15h. Paraules de benvinguda a càrrec de M. José Lorente (delegada per a la Incorporació a la Universitat de València)\, Juli Peretó (delegat de l’Institut d’Estudis Catalans) i Josep Vicent Boira (director del Servei de Política Lingüística de la Universitat de València)  09.30h. Ponència de Ferran Suay: “El que diem i el que transmetrem”  10.30h. Ponència d’Enric Ramiro: “Quan la sin-ta-xi no és un mot oriental: una visió educativa optimista”  11.30h. Pausa  12.00h. Ponència de Francesc Esteve: “Per fi\, una gramàtica sense gramàtica: la Gramàtica zero”  13.00h. Debat general amb els ponents (moderador: Juli Peretó)   NOTA Els assistents inscrits rebran un exemplar del llibre Gramàtica zero: el millor ús amb la mínima gramàtica   ORGANITZEN I PATROCINEN -Delegació del rector per a la Incorporació a la Universitat de València -Servei de Política Lingüística de la UV -Institut d’Estudis Catalans -Unitat de Cultura Científica – Càtedra de Divulgació de la Ciència de la UV -Xarxa Vives d’Universitats -Octubre Centre de Cultura Contemporània  INSCRIPCIÓ Del 17 al 24 de gener a través d’aquest enllaç Aforament limitat a 120 participants
URL:https://octubre.cat/activitat/matinal-que-fem-amb-la-llengua-a-lensenyament/
LOCATION:No definit
CATEGORIES:Conferències i congressos
ATTACH;FMTTYPE=image/jpeg:https://octubre.cat/www/wp-content/uploads/2020/07/activitat1565.jpg
END:VEVENT
END:VCALENDAR