BEGIN:VCALENDAR
VERSION:2.0
PRODID:-//Octubre Centre de Cultura Contemporània - ECPv5.1.6//NONSGML v1.0//EN
CALSCALE:GREGORIAN
METHOD:PUBLISH
X-WR-CALNAME:Octubre Centre de Cultura Contemporània
X-ORIGINAL-URL:https://octubre.cat
X-WR-CALDESC:Events for Octubre Centre de Cultura Contemporània
BEGIN:VTIMEZONE
TZID:Europe/Andorra
BEGIN:DAYLIGHT
TZOFFSETFROM:+0100
TZOFFSETTO:+0200
TZNAME:CEST
DTSTART:20070325T010000
END:DAYLIGHT
BEGIN:STANDARD
TZOFFSETFROM:+0200
TZOFFSETTO:+0100
TZNAME:CET
DTSTART:20071028T010000
END:STANDARD
END:VTIMEZONE
BEGIN:VEVENT
DTSTART;TZID=Europe/Andorra:20071110T090000
DTEND;TZID=Europe/Andorra:20071110T090000
DTSTAMP:20260420T192000
CREATED:20200729T164744Z
LAST-MODIFIED:20200730T035421Z
UID:8744-1194685200-1194685200@octubre.cat
SUMMARY:Matinal d'Evolució Humana
DESCRIPTION:El llarg viatge de l’espècie humana  Jornada d’actualitació científica per a professorat de secundària i batxiller dins la Setmana de la Ciència i la Tecnologia de la Universitat de València 2007  PROGRAMA  09.00-09.15  Recollida de documentació 09.15-09.30  Paraules de benvinguda 09.30-10.15  El genoma en la reconstrucció de la història de la                                humanitat. Ponent: Jaume Bertranpetit\, catedràtic de Biologia de  la Universitat Pompeu Fabra\, membre de la Secció de ciències biològiques de l’IEC i director de la Institució Catalana de recerca i Estudis Avançats (ICREA). 10.30-11.15   Carronya\, hienes i homínids. Ponent: Bienvenido Martínez-Navarro\, professor d’investigació d’ICREA-Universitat Rovira i Virgili i de l’Institut Català de Paleoecologia Humana. 11.30-12.00   Pausa 12.00-12.45  Una perspectiva arqueològica de l’evolució humana. Ponent: Valentín Villaverde\, catedràtic d’arqueologia de la UV. 13.00-14.00  Debat general. Modera: Juli Peretó\, professor de bioquímica i biologia molecular de la UV\, membre de l’Institut Cabanilles i de la Secció de ciències biològiques de l’IEC i secretari d’ISSOL (International Society for the Study of the Origin of Life-The International Astrobiology Society).  INSCRIPCIONS ABANS DEL 5 DE NOVEMBRE ACÍ Cal buscar l’activitat I matinal de l’evolució humana i polsar la paraula inscripció.  Organitza i patrocina: Delegació del rector per a la Incorporació a la Universitat\, UV. Institut Cabanilles de Biodiversitat i Biologia Evolutiva\, UV. Facultat de Ciències Biològiques\, UV. Societat Catalana de Biologia /SCB-IEC). Institut d’Estudis Catalans (IEC)-Espai Ciència de l’OCCC. Acció Cultural del País Valencià i la Càtedra de Divulgació de la Ciència\, UV.  Col·labora: Publicacions de la Universitat de València i la revista Mètode\, UV.
URL:https://octubre.cat/activitat/matinal-devolucio-humana/
LOCATION:No definit
CATEGORIES:Espai Ciència
ATTACH;FMTTYPE=image/jpeg:https://octubre.cat/www/wp-content/uploads/2020/07/espaiciencia1.jpg
END:VEVENT
END:VCALENDAR