BEGIN:VCALENDAR
VERSION:2.0
PRODID:-//Octubre Centre de Cultura Contemporània - ECPv5.1.6//NONSGML v1.0//EN
CALSCALE:GREGORIAN
METHOD:PUBLISH
X-WR-CALNAME:Octubre Centre de Cultura Contemporània
X-ORIGINAL-URL:https://octubre.cat
X-WR-CALDESC:Events for Octubre Centre de Cultura Contemporània
BEGIN:VTIMEZONE
TZID:Europe/Andorra
BEGIN:DAYLIGHT
TZOFFSETFROM:+0100
TZOFFSETTO:+0200
TZNAME:CEST
DTSTART:20100328T010000
END:DAYLIGHT
BEGIN:STANDARD
TZOFFSETFROM:+0200
TZOFFSETTO:+0100
TZNAME:CET
DTSTART:20101031T010000
END:STANDARD
END:VTIMEZONE
BEGIN:VEVENT
DTSTART;TZID=Europe/Andorra:20100209T190000
DTEND;TZID=Europe/Andorra:20100209T190000
DTSTAMP:20260420T181041
CREATED:20200729T164716Z
LAST-MODIFIED:20200729T182752Z
UID:8715-1265742000-1265742000@octubre.cat
SUMMARY:Mateu el president
DESCRIPTION:Dimarts 9 de febrer\, a les 19.00h: Presentació del llibre “Mateu el president” (Cossetània)\, de Sebastià Bennàssar.   \n  \n  \n\nPresentació del llibre Mateu el president (Editorial Cossetània)\, de Sebastià Bennàssar.   L’autor estarà acompanyat pels també escriptors Xavier Aliaga i Esperança Camps.   Mateu el president El comissari Jaume Fuster torna per treballar a una Barcelona en constant canvi social i demogràfic\, uns canvis que no agraden ni a certs sectors de l’empresariat ni als joves d’extrema dreta. Quan encara no ha desfet totes les capses del seu trasllat ja es veu investigant un cas que passa de ser el simple assassinat d’un petit traficant de droga a relacionar-se amb tota una execució d’un mosso d’escuadra. Estirant del fil arriba fins a un d’aquestos grups feixistes\, als quals tampoc agrada la deriva sobiranista que estan prenent certes institucions del país i planegen atemptar contra el president del Futbol Club Barcelona.  Sebastià Bennasar ens condueix a través d’aquesta excel·lent\, però breu\, novel·la negra gràcies a una lectura amena i àgil impulsada per freqüents enumeracions de fets\, sovint anecdòtics\, concatenats en forma de llargs paràgrafs. Ens mostra la pitjor cara de la Barcelona dels grans empresaris i de les elits estudiantils universitàries. Aquesta és\, en definitiva\, una novel·la que se li farà curta a qualsevol lector.  Ressenya de Francesc García Grimau\, participant en la promoció del llibre Mateu el president\, de Sebastià Bennasar.
URL:https://octubre.cat/activitat/mateu-el-president/
LOCATION:No definit
CATEGORIES:Espai Illes Balears
ATTACH;FMTTYPE=image/jpeg:https://octubre.cat/www/wp-content/uploads/2020/07/activitat1059.jpg
END:VEVENT
END:VCALENDAR