BEGIN:VCALENDAR
VERSION:2.0
PRODID:-//Octubre Centre de Cultura Contemporània - ECPv5.1.6//NONSGML v1.0//EN
CALSCALE:GREGORIAN
METHOD:PUBLISH
X-WR-CALNAME:Octubre Centre de Cultura Contemporània
X-ORIGINAL-URL:https://octubre.cat
X-WR-CALDESC:Events for Octubre Centre de Cultura Contemporània
BEGIN:VTIMEZONE
TZID:Europe/Andorra
BEGIN:DAYLIGHT
TZOFFSETFROM:+0100
TZOFFSETTO:+0200
TZNAME:CEST
DTSTART:20130331T010000
END:DAYLIGHT
BEGIN:STANDARD
TZOFFSETFROM:+0200
TZOFFSETTO:+0100
TZNAME:CET
DTSTART:20131027T010000
END:STANDARD
END:VTIMEZONE
BEGIN:VEVENT
DTSTART;TZID=Europe/Andorra:20130117T000000
DTEND;TZID=Europe/Andorra:20130117T000000
DTSTAMP:20260421T072340
CREATED:20200729T165921Z
LAST-MODIFIED:20200729T184013Z
UID:9466-1358380800-1358380800@octubre.cat
SUMMARY:Màster de fotografia de la UPV
DESCRIPTION:Dimecres 16 i dijous 17: presentació pública de projectes del màster de fotografia de la UPV  \n  \n  \n\n Presentació pública de projectes del màster de fotografia de la Universitat Politècnica de València.  Dimecres 16 de gener de 16.00h a 18.30h Dijous 17 de gener de 17.00h a 20.00h  Entrada lliure
URL:https://octubre.cat/activitat/master-de-fotografia-de-la-upv/
LOCATION:No definit
CATEGORIES:Literatura
ATTACH;FMTTYPE=image/jpeg:https://octubre.cat/www/wp-content/uploads/2020/07/activitat1716.jpg
END:VEVENT
END:VCALENDAR