BEGIN:VCALENDAR
VERSION:2.0
PRODID:-//Octubre Centre de Cultura Contemporània - ECPv5.1.6//NONSGML v1.0//EN
CALSCALE:GREGORIAN
METHOD:PUBLISH
X-WR-CALNAME:Octubre Centre de Cultura Contemporània
X-ORIGINAL-URL:https://octubre.cat
X-WR-CALDESC:Events for Octubre Centre de Cultura Contemporània
BEGIN:VTIMEZONE
TZID:Europe/Andorra
BEGIN:DAYLIGHT
TZOFFSETFROM:+0100
TZOFFSETTO:+0200
TZNAME:CEST
DTSTART:20160327T010000
END:DAYLIGHT
BEGIN:STANDARD
TZOFFSETFROM:+0200
TZOFFSETTO:+0100
TZNAME:CET
DTSTART:20161030T010000
END:STANDARD
END:VTIMEZONE
BEGIN:VEVENT
DTSTART;TZID=Europe/Andorra:20160203T190000
DTEND;TZID=Europe/Andorra:20160203T190000
DTSTAMP:20260421T165454
CREATED:20200729T171548Z
LAST-MODIFIED:20200729T185359Z
UID:10484-1454526000-1454526000@octubre.cat
SUMMARY:'Màscares'\, d’Elisabet Cabeza i Esteve Riambau
DESCRIPTION:Dimecres 3 de febrer a les 19.00h. Cicle de cinema social. Entrada lliure.  \n  \n  \n\n Els actors\, com els mags\, no revelen els seus trucs. Josep Maria Pou ha fet una excepció en permetre que una càmera filme el procés de preparació d’una obra en la qual interpreta Orson Welles. L’acció de Màscares transcorre entre bambolines\, un espai ocult a la mirada del públic on l’actor canvia de pell per invocar el seu personatge. Màgia\, amb truc\, però màgia al cap i a la fi.  Direcció i guió: Elisabet Cabeza\, Esteve Riambau (2009) Repartiment: Josep M. Pou\, Maria Araujo\, Calixto Bieito Productora: Oberón Cinematográfica / Televisió de Catalunya (TV3) Durada: 90’  — Entrada lliure Organitzat amb la col·laboració d’El Cine Social Coordinació del cicle: Antonio Lloréns
URL:https://octubre.cat/activitat/mascares-delisabet-cabeza-i-esteve-riambau/
LOCATION:Sala d’actes
CATEGORIES:Tercer cicle de cinema social
ATTACH;FMTTYPE=image/jpeg:https://octubre.cat/www/wp-content/uploads/2020/07/activitat2489.jpg
END:VEVENT
END:VCALENDAR