BEGIN:VCALENDAR
VERSION:2.0
PRODID:-//Octubre Centre de Cultura Contemporània - ECPv5.1.6//NONSGML v1.0//EN
CALSCALE:GREGORIAN
METHOD:PUBLISH
X-WR-CALNAME:Octubre Centre de Cultura Contemporània
X-ORIGINAL-URL:https://octubre.cat
X-WR-CALDESC:Events for Octubre Centre de Cultura Contemporània
BEGIN:VTIMEZONE
TZID:Europe/Andorra
BEGIN:DAYLIGHT
TZOFFSETFROM:+0100
TZOFFSETTO:+0200
TZNAME:CEST
DTSTART:20180325T010000
END:DAYLIGHT
BEGIN:STANDARD
TZOFFSETFROM:+0200
TZOFFSETTO:+0100
TZNAME:CET
DTSTART:20181028T010000
END:STANDARD
END:VTIMEZONE
BEGIN:VEVENT
DTSTART;TZID=Europe/Andorra:20180207T193000
DTEND;TZID=Europe/Andorra:20180207T193000
DTSTAMP:20260420T141935
CREATED:20200729T190257Z
LAST-MODIFIED:20200729T190257Z
UID:13325-1518031800-1518031800@octubre.cat
SUMMARY:Marta R. Sobrecueva
DESCRIPTION:Marta R. Sobrecueva\, àlies Martaerre\, coneguda per la seua concreció i pel seu estil peculiar\, irònic i implícitament crític amb el seu temps. Poeta nascuda els anys setanta a València\, ha publicat amb Ediciones Amargord els poemaris El libro melón (2011)\, MISSISSEPIA (2013) i Galerías (2016). També ha col·laborat amb revistes com La hamaca de lona\, El casco\, Oxxo\, El inconformista\, Canibaal\, BÖWÖ… Manté un blog poètic desde 2008.  Aquesta activitat forma part de l’exposició Universos paral·lels\, de paco munyoç.
URL:https://octubre.cat/activitat/marta-r-sobrecueva/
CATEGORIES:Performance
ATTACH;FMTTYPE=image/jpeg:https://octubre.cat/www/wp-content/uploads/2020/07/activitat2965.jpg
END:VEVENT
END:VCALENDAR