BEGIN:VCALENDAR
VERSION:2.0
PRODID:-//Octubre Centre de Cultura Contemporània - ECPv5.1.6//NONSGML v1.0//EN
CALSCALE:GREGORIAN
METHOD:PUBLISH
X-WR-CALNAME:Octubre Centre de Cultura Contemporània
X-ORIGINAL-URL:https://octubre.cat
X-WR-CALDESC:Events for Octubre Centre de Cultura Contemporània
BEGIN:VTIMEZONE
TZID:Europe/Andorra
BEGIN:DAYLIGHT
TZOFFSETFROM:+0100
TZOFFSETTO:+0200
TZNAME:CEST
DTSTART:20150329T010000
END:DAYLIGHT
BEGIN:STANDARD
TZOFFSETFROM:+0200
TZOFFSETTO:+0100
TZNAME:CET
DTSTART:20151025T010000
END:STANDARD
END:VTIMEZONE
BEGIN:VEVENT
DTSTART;TZID=Europe/Andorra:20150616T190000
DTEND;TZID=Europe/Andorra:20150616T190000
DTSTAMP:20260422T032737
CREATED:20200729T171143Z
LAST-MODIFIED:20200730T041457Z
UID:10224-1434481200-1434481200@octubre.cat
SUMMARY:Màrius Sempere i Carles Camps Mundó
DESCRIPTION:Dimarts 16 de juny a les 19.00h.  Presentació dels llibres 123 de Màrius Sempere i Cap nom del món\, de Carles Camps Mundó.  \n  \n  \n\n Presentació dels llibres 123 de Màrius Sempere i Cap nom del món\, de Carles Camps Mundó.  (Edicons del Buc)
URL:https://octubre.cat/activitat/marius-sempere-i-carles-camps-mundo/
LOCATION:Llibreria 3i4
CATEGORIES:Literatura
ATTACH;FMTTYPE=image/jpeg:https://octubre.cat/www/wp-content/uploads/2020/07/activitat2350.jpg
END:VEVENT
END:VCALENDAR