BEGIN:VCALENDAR
VERSION:2.0
PRODID:-//Octubre Centre de Cultura Contemporània - ECPv5.1.6//NONSGML v1.0//EN
CALSCALE:GREGORIAN
METHOD:PUBLISH
X-WR-CALNAME:Octubre Centre de Cultura Contemporània
X-ORIGINAL-URL:https://octubre.cat
X-WR-CALDESC:Events for Octubre Centre de Cultura Contemporània
BEGIN:VTIMEZONE
TZID:Europe/Andorra
BEGIN:DAYLIGHT
TZOFFSETFROM:+0100
TZOFFSETTO:+0200
TZNAME:CEST
DTSTART:20070325T010000
END:DAYLIGHT
BEGIN:STANDARD
TZOFFSETFROM:+0200
TZOFFSETTO:+0100
TZNAME:CET
DTSTART:20071028T010000
END:STANDARD
END:VTIMEZONE
BEGIN:VEVENT
DTSTART;TZID=Europe/Andorra:20070531T080000
DTEND;TZID=Europe/Andorra:20070531T170000
DTSTAMP:20260420T181124
CREATED:20200907T192753Z
LAST-MODIFIED:20200907T192753Z
UID:14999-1180598400-1180630800@octubre.cat
SUMMARY:Màrius Asensi i 21 grams
DESCRIPTION:Cicle organitzat per l’Octubre CCC i programat per Francesc Burgos (lacasacalba)
URL:https://octubre.cat/activitat/marius-asensi-i-21-grams/
LOCATION:Sala d’actes
CATEGORIES:Notes al peu
ATTACH;FMTTYPE=image/jpeg:https://octubre.cat/www/wp-content/uploads/2020/07/musica1.jpg
END:VEVENT
END:VCALENDAR