BEGIN:VCALENDAR
VERSION:2.0
PRODID:-//Octubre Centre de Cultura Contemporània - ECPv5.1.6//NONSGML v1.0//EN
CALSCALE:GREGORIAN
METHOD:PUBLISH
X-WR-CALNAME:Octubre Centre de Cultura Contemporània
X-ORIGINAL-URL:https://octubre.cat
X-WR-CALDESC:Events for Octubre Centre de Cultura Contemporània
BEGIN:VTIMEZONE
TZID:Europe/Andorra
BEGIN:DAYLIGHT
TZOFFSETFROM:+0100
TZOFFSETTO:+0200
TZNAME:CEST
DTSTART:20070325T010000
END:DAYLIGHT
BEGIN:STANDARD
TZOFFSETFROM:+0200
TZOFFSETTO:+0100
TZNAME:CET
DTSTART:20071028T010000
END:STANDARD
BEGIN:DAYLIGHT
TZOFFSETFROM:+0100
TZOFFSETTO:+0200
TZNAME:CEST
DTSTART:20080330T010000
END:DAYLIGHT
BEGIN:STANDARD
TZOFFSETFROM:+0200
TZOFFSETTO:+0100
TZNAME:CET
DTSTART:20081026T010000
END:STANDARD
END:VTIMEZONE
BEGIN:VEVENT
DTSTART;TZID=Europe/Andorra:20071212T000000
DTEND;TZID=Europe/Andorra:20080210T000000
DTSTAMP:20260420T173833
CREATED:20200729T181616Z
LAST-MODIFIED:20200828T145124Z
UID:12423-1197417600-1202601600@octubre.cat
SUMMARY:Marilyn i el glamour
DESCRIPTION:Aquesta mostra recull un bon nombre d’objectes personals de Marilyn Monroe\, com ara fotos i vestits\, que ajuden a comprendre no solament la persona i el personatge\, sinó la seua importància en el cinema dels anys cinquanta als Estats Units i el llegat que va deixar a la seua mort. En l’exposició s’hi combinen objectes de la infantesa de l’actriu amb d’altres de la Marilyn glamourosa. Segons l’expert Sergi Sánchez “l’objectiu de l’exposició no té res a veure amb la mitomania. Tots els records de què disposem són peces d’un trencaclosques que configuraran una imatge de la Marilyn diferent per a cadascun dels visitants de l’exposició”. \n \nLa mostra ha estat organitzada per l’Octubre Centre de Cultura Contemporània i la Col·lecció Maite Mínguez Ricart. \nInauguració: dimecres 12 de desembre de 2007\n–19.30h: Conferència de Donald Spoto\, el gran biògraf de les stars de Hollywood\n–20.30h: Inauguració a càrrec de Maite Mínguez Ricart\, Donald Spoto i Eliseu Climent\nComissari de la mostra: Pepe Calvo
URL:https://octubre.cat/activitat/marilyn-i-el-glamour/
LOCATION:Sala d’exposicions
CATEGORIES:Exposicions
ATTACH;FMTTYPE=image/jpeg:https://octubre.cat/www/wp-content/uploads/2020/07/Marilyn-Monroe.jpg
END:VEVENT
END:VCALENDAR