BEGIN:VCALENDAR
VERSION:2.0
PRODID:-//Octubre Centre de Cultura Contemporània - ECPv5.1.6//NONSGML v1.0//EN
CALSCALE:GREGORIAN
METHOD:PUBLISH
X-WR-CALNAME:Octubre Centre de Cultura Contemporània
X-ORIGINAL-URL:https://octubre.cat
X-WR-CALDESC:Events for Octubre Centre de Cultura Contemporània
BEGIN:VTIMEZONE
TZID:Europe/Andorra
BEGIN:DAYLIGHT
TZOFFSETFROM:+0100
TZOFFSETTO:+0200
TZNAME:CEST
DTSTART:20090329T010000
END:DAYLIGHT
BEGIN:STANDARD
TZOFFSETFROM:+0200
TZOFFSETTO:+0100
TZNAME:CET
DTSTART:20091025T010000
END:STANDARD
END:VTIMEZONE
BEGIN:VEVENT
DTSTART;TZID=Europe/Andorra:20090125T190000
DTEND;TZID=Europe/Andorra:20090125T190000
DTSTAMP:20260420T154442
CREATED:20200729T182248Z
LAST-MODIFIED:20200729T182248Z
UID:12732-1232910000-1232910000@octubre.cat
SUMMARY:Marc Ayza Quintet
DESCRIPTION:Diumenge 25 de gener a les 19.00h: Marc Ayza Quartet  \n  \n  \n\nMarc Ayza és un dels bateries amb més projecció a l’escena jazzistica i un dels més sol·licitats. Des que va començar la seua carrera\, ha format part d’un gran nombre de grups\, tot i que fa ja més fa més d’un any que va crear el seu propi projecte com a líder\, un grup que inclou Roger Mas al piano i Fender Rhodes\, Tom Warburton al baix \, Dj Helios als plats i com a col·laborador l’ Mc de Nova York\, Core Rhythm. Amb aquests\, al llarg del darrer any\, ha estat tocant al Suite Royale cada diumenge amb una acollida encoratjadora. El grup ha sabut engrescar al seu públic i refermar la compenetració dels seus components amb cada actuació\, fent avançar de manera natural la seua temàtica i el seu sentit del ritme. Pel que fa a etiquetes\, Marc Ayza s’ha desmarcat del que es pot considerar l’essència del jazz per generar la seua pròpia música. El seu groove és poderós i a la vegada subtil i suggerent\, i el seu estil fusiona el jazz amb les influències que ell duu arrelades ben endins\, i que van des de Marvin Gaye fins a Stevie Wonder\, Gil Scott-Heron o el hip hop més innovador. Com diu el propi Marc Ayza\, “en aquests moments\, no hi veig un gran abisme estilístic entre JDilla i John Coltrane.” Sobre aquestes bases\, i recolzant-se en un grup sòlid\, ple de força i que s’identifica amb el seu líder\, Marc Ayza ha establert una música captivadora i envoltant que creix\, que evoluciona melòdicament i rítmica fins arribar al clímax que la fa tant atractiva.  Marc Ayza: bateria Roger Mas: piano i teclats Tom Warburton: contrabaix Dj Helios: plats Core Rhythm: veu
URL:https://octubre.cat/activitat/marc-ayza-quintet/
LOCATION:No definit
CATEGORIES:Diumenges de Jazz!
ATTACH;FMTTYPE=image/jpeg:https://octubre.cat/www/wp-content/uploads/2020/07/activitat754.jpg
END:VEVENT
END:VCALENDAR