BEGIN:VCALENDAR
VERSION:2.0
PRODID:-//Octubre Centre de Cultura Contemporània - ECPv5.1.6//NONSGML v1.0//EN
CALSCALE:GREGORIAN
METHOD:PUBLISH
X-WR-CALNAME:Octubre Centre de Cultura Contemporània
X-ORIGINAL-URL:https://octubre.cat
X-WR-CALDESC:Events for Octubre Centre de Cultura Contemporània
BEGIN:VTIMEZONE
TZID:Europe/Andorra
BEGIN:DAYLIGHT
TZOFFSETFROM:+0100
TZOFFSETTO:+0200
TZNAME:CEST
DTSTART:20100328T010000
END:DAYLIGHT
BEGIN:STANDARD
TZOFFSETFROM:+0200
TZOFFSETTO:+0100
TZNAME:CET
DTSTART:20101031T010000
END:STANDARD
END:VTIMEZONE
BEGIN:VEVENT
DTSTART;TZID=Europe/Andorra:20100620T190000
DTEND;TZID=Europe/Andorra:20100620T190000
DTSTAMP:20260420T165914
CREATED:20200729T164945Z
LAST-MODIFIED:20200730T042516Z
UID:8863-1277060400-1277060400@octubre.cat
SUMMARY:Marc Ayza + Arecio Smith + Dave Wilkinson
DESCRIPTION:Diumenge 20 de juny\, a les 19.00h: Marc Ayza + Arecio Smith + Dave Wilkinson (Barcelona).   \n  \n  \n\nMarc Ayza és un bon exemple de jove jazzista amb possibilitats de fer coses interessants que emigra a Nova York per a completar els seus estudis i buscar noves idees i que\, més tard\, retorna a Barcelona per a posar-les en pràctica. La seua base és el hard bop i l’estètica blues note\, amb estructures senzilles\, melòdiques i un enèrgic so en directe. Per la seua banda\, Arecio Smith\, pianista\, organista i teclista\, a més de compositor\, arranjador i productor\, i experimentat en el camp de la programació i el sample\, és un dels noms clau de l’escena negra estatal\, addicte als crèdits d’alguns dels àlbums de jazz més interessants del moment. Per últim\, Dave Wilkinson (a.k.a. David Philips)\, nascut a Nottingham\, però resident a Barcelona\, és un guitarrista hiperactiu\, compositor i cantant\, tan incapaç d’estar-se quiet més de 5 minuts que fins i tot necessita dos noms. Se sent còmode dins d’un ampli ventall d’estils que van des del hard be-bop fins al funky de Grant Green o el funky chicken scratchin’ de Meters o el blues de texas més dur. Tots tres junts ens presenten un nou projecte.   Marc Ayza\, bateria / Arecio Smith\, teclat / Dave Wilkinson\, guitarra i veu
URL:https://octubre.cat/activitat/marc-ayza-arecio-smith-dave-wilkinson/
LOCATION:No definit
CATEGORIES:Diumenges de Jazz!
ATTACH;FMTTYPE=image/jpeg:https://octubre.cat/www/wp-content/uploads/2020/07/activitat1212.jpg
END:VEVENT
END:VCALENDAR