BEGIN:VCALENDAR
VERSION:2.0
PRODID:-//Octubre Centre de Cultura Contemporània - ECPv5.1.6//NONSGML v1.0//EN
CALSCALE:GREGORIAN
METHOD:PUBLISH
X-WR-CALNAME:Octubre Centre de Cultura Contemporània
X-ORIGINAL-URL:https://octubre.cat
X-WR-CALDESC:Events for Octubre Centre de Cultura Contemporània
BEGIN:VTIMEZONE
TZID:Europe/Andorra
BEGIN:DAYLIGHT
TZOFFSETFROM:+0100
TZOFFSETTO:+0200
TZNAME:CEST
DTSTART:20140330T010000
END:DAYLIGHT
BEGIN:STANDARD
TZOFFSETFROM:+0200
TZOFFSETTO:+0100
TZNAME:CET
DTSTART:20141026T010000
END:STANDARD
BEGIN:DAYLIGHT
TZOFFSETFROM:+0100
TZOFFSETTO:+0200
TZNAME:CEST
DTSTART:20150329T010000
END:DAYLIGHT
BEGIN:STANDARD
TZOFFSETFROM:+0200
TZOFFSETTO:+0100
TZNAME:CET
DTSTART:20151025T010000
END:STANDARD
END:VTIMEZONE
BEGIN:VEVENT
DTSTART;TZID=Europe/Andorra:20141202T000000
DTEND;TZID=Europe/Andorra:20150108T000000
DTSTAMP:20260425T205717
CREATED:20200729T170821Z
LAST-MODIFIED:20200902T161257Z
UID:10009-1417478400-1420675200@octubre.cat
SUMMARY:mar-mar
DESCRIPTION:Inauguració: dimarts 2 de desembre a les 19.00h \nmar-mar és una exposició multidisciplinar\, organitzada amb motiu de la Mostra Viva Cinema Mediterrani i comissariada per Amparo Carbonell\, en la qual hi participen:\nBLANCA MONTALVO\nMARIAJO MARTINEZ DE PISÓN\nAMPARO CARBONELL\nTRINIDAD GRACIA\nJOSE MALDONADO\nEMILIO MARTINEZ\nBIA SANTOS\nMARIBEL DOMENECH\nDOLORES FURIÓ\nSILVANA ANDRÉS\nLAURA SILVESTRE\nPACO GINER\nPACO SANMARTÍN\nCARLOS GARCIA MIRAGALL\nVICENTE ORTÍZ\nLEOPOLDO AMIGO\nLAURA RODRIGO\nHECTOR SAMPÉR\nPEPE ROMERO\nCUETO LOMINCHAR\nJAUME CHORNET\nPEPA LÓPEZ POQUET\nISABEL NAVARRO\nGÍL GIJÓN\nGIORGIA PARTESOTTI\nROCÍO VICENT\nNEUS LOZANO\nISAAC SANCHERMÉS\nGUILLERMO LECHÓN\nAINOHA SALAS\nGERMÁN TORRES\nLUIS URQUIETA\nJULIO SOSA\nSOUMAYA RAISSOUNI \nEn ella s’hi apleguen les mirades que aquests 34 artistes llancen a la Mediterrània. Mirades privades\, compartides sovint\, fugaces o profundes\, lleugeres o entregades\, militants\, obertes a preguntes eternes que van encadenant respostes tan ondulants i inestables com l’horitzó llunyà i tan rotundes com les ones a la riba. Aquestes mirades\, que es resolen a través de l’art i es representen mitjançant recursos multidisciplinars (dibuix\, aquarel·la\, pintura\, escultura\, ceràmica\, performance\, videoart\, peces interactives…)\, ens obligaran a revisar el nostre present\, tan aliè ja a aquella idea de món civilitzat que va nàixer\, sense temps ni espai\, a totes les riberes de la Mediterrània. \nAquest projecte ha comptat amb la col·laboració de la Facultat de BBAA\, Departament d’Escultura\, Màster Arts Visuals i Multimèdia\, Vitelsa i Octubre Centre de Cultura Contemporània.
URL:https://octubre.cat/activitat/mar-mar/
LOCATION:Sala d’exposicions
CATEGORIES:Exposicions
ATTACH;FMTTYPE=image/jpeg:https://octubre.cat/www/wp-content/uploads/2020/07/activitat2206.jpg
END:VEVENT
END:VCALENDAR